BEGIN:VCALENDAR
VERSION:2.0
PRODID:-//TrueLunar - ECPv6.15.20//NONSGML v1.0//EN
CALSCALE:GREGORIAN
METHOD:PUBLISH
X-ORIGINAL-URL:https://truelunar.com
X-WR-CALDESC:Events for TrueLunar
REFRESH-INTERVAL;VALUE=DURATION:PT1H
X-Robots-Tag:noindex
X-PUBLISHED-TTL:PT1H
BEGIN:VTIMEZONE
TZID:America/Phoenix
BEGIN:STANDARD
TZOFFSETFROM:-0700
TZOFFSETTO:-0700
TZNAME:MST
DTSTART:20220101T000000
END:STANDARD
END:VTIMEZONE
BEGIN:VEVENT
DTSTART;TZID=America/Phoenix:20230322T180000
DTEND;TZID=America/Phoenix:20230322T190000
DTSTAMP:20260424T004213
CREATED:20230228T221218Z
LAST-MODIFIED:20260423T230119Z
UID:12775-1679508000-1679511600@truelunar.com
SUMMARY:Look for New Moon (1st or 13th Mo.)
DESCRIPTION:
URL:https://truelunar.com/event/look-for-new-moon-1st-or-13th-mo-4/
LOCATION:SKY
CATEGORIES:Feasts & Sabbath
END:VEVENT
BEGIN:VEVENT
DTSTART;TZID=America/Phoenix:20230322T180000
DTEND;TZID=America/Phoenix:20230322T190000
DTSTAMP:20260424T004213
CREATED:20230228T221218Z
LAST-MODIFIED:20260423T230119Z
UID:12776-1679508000-1679511600@truelunar.com
SUMMARY:Look for New Moon (1st or 13th Mo.)
DESCRIPTION:
URL:https://truelunar.com/event/look-for-new-moon-1st-or-13th-mo-5/
LOCATION:SKY
CATEGORIES:Feasts & Sabbath
END:VEVENT
BEGIN:VEVENT
DTSTART;TZID=America/Phoenix:20230322T183000
DTEND;TZID=America/Phoenix:20230323T183000
DTSTAMP:20260424T004213
CREATED:20230323T225312Z
LAST-MODIFIED:20260423T230119Z
UID:12954-1679509800-1679596200@truelunar.com
SUMMARY:New Moon (Aviv 1) - Happy New Year!
DESCRIPTION:
URL:https://truelunar.com/event/new-moon-aviv-1-happy-new-year-2/
CATEGORIES:Feasts & Sabbath
END:VEVENT
END:VCALENDAR