BEGIN:VCALENDAR
VERSION:2.0
PRODID:-//TrueLunar - ECPv6.15.20//NONSGML v1.0//EN
CALSCALE:GREGORIAN
METHOD:PUBLISH
X-ORIGINAL-URL:https://truelunar.com
X-WR-CALDESC:Events for TrueLunar
REFRESH-INTERVAL;VALUE=DURATION:PT1H
X-Robots-Tag:noindex
X-PUBLISHED-TTL:PT1H
BEGIN:VTIMEZONE
TZID:America/Phoenix
BEGIN:STANDARD
TZOFFSETFROM:-0700
TZOFFSETTO:-0700
TZNAME:MST
DTSTART:20220101T000000
END:STANDARD
END:VTIMEZONE
BEGIN:VEVENT
DTSTART;TZID=America/Phoenix:20230403T190000
DTEND;TZID=America/Phoenix:20230404T190000
DTSTAMP:20260423T215645
CREATED:20230323T225353Z
LAST-MODIFIED:20260423T230129Z
UID:12958-1680548400-1680634800@truelunar.com
SUMMARY:Prep Day: Remove Leaven
DESCRIPTION:
URL:https://truelunar.com/event/prep-day-remove-leaven-2/
LOCATION:ENTIRE HOME
CATEGORIES:Feasts & Sabbath
END:VEVENT
BEGIN:VEVENT
DTSTART;TZID=America/Phoenix:20230404T183000
DTEND;TZID=America/Phoenix:20230405T183000
DTSTAMP:20260423T215645
CREATED:20230323T225354Z
LAST-MODIFIED:20260423T230130Z
UID:12962-1680633000-1680719400@truelunar.com
SUMMARY:Sabbath (1st Mo./Aviv)
DESCRIPTION:
URL:https://truelunar.com/event/sabbath-1st-mo-aviv-216/
LOCATION:Home or Set Apart Gathering
CATEGORIES:Feasts & Sabbath
END:VEVENT
BEGIN:VEVENT
DTSTART;TZID=America/Phoenix:20230404T183000
DTEND;TZID=America/Phoenix:20230405T183000
DTSTAMP:20260423T215645
CREATED:20230323T225354Z
LAST-MODIFIED:20260423T230135Z
UID:12964-1680633000-1680719400@truelunar.com
SUMMARY:Passover (Aviv 14) - Holy Day
DESCRIPTION:
URL:https://truelunar.com/event/passover-aviv-14-holy-day-31/
LOCATION:Home or Set Apart Gathering
CATEGORIES:Feasts & Sabbath
END:VEVENT
END:VCALENDAR