BEGIN:VCALENDAR
VERSION:2.0
PRODID:-//TrueLunar - ECPv6.15.20//NONSGML v1.0//EN
CALSCALE:GREGORIAN
METHOD:PUBLISH
X-ORIGINAL-URL:https://truelunar.com
X-WR-CALDESC:Events for TrueLunar
REFRESH-INTERVAL;VALUE=DURATION:PT1H
X-Robots-Tag:noindex
X-PUBLISHED-TTL:PT1H
BEGIN:VTIMEZONE
TZID:America/Phoenix
BEGIN:STANDARD
TZOFFSETFROM:-0700
TZOFFSETTO:-0700
TZNAME:MST
DTSTART:20220101T000000
END:STANDARD
END:VTIMEZONE
BEGIN:VEVENT
DTSTART;TZID=America/Phoenix:20230418T183000
DTEND;TZID=America/Phoenix:20230419T183000
DTSTAMP:20260423T215652
CREATED:20230323T225446Z
LAST-MODIFIED:20260423T230136Z
UID:12969-1681842600-1681929000@truelunar.com
SUMMARY:Sabbath (1st Mo./Aviv)
DESCRIPTION:
URL:https://truelunar.com/event/sabbath-1st-mo-aviv-218/
LOCATION:Home or Set Apart Gathering
CATEGORIES:Feasts & Sabbath
END:VEVENT
END:VCALENDAR