BEGIN:VCALENDAR
VERSION:2.0
PRODID:-//TrueLunar - ECPv6.15.20//NONSGML v1.0//EN
CALSCALE:GREGORIAN
METHOD:PUBLISH
X-WR-CALNAME:TrueLunar
X-ORIGINAL-URL:https://truelunar.com
X-WR-CALDESC:Events for TrueLunar
REFRESH-INTERVAL;VALUE=DURATION:PT1H
X-Robots-Tag:noindex
X-PUBLISHED-TTL:PT1H
BEGIN:VTIMEZONE
TZID:America/Phoenix
BEGIN:STANDARD
TZOFFSETFROM:-0700
TZOFFSETTO:-0700
TZNAME:MST
DTSTART:20220101T000000
END:STANDARD
END:VTIMEZONE
BEGIN:VEVENT
DTSTART;TZID=America/Phoenix:20230816T193000
DTEND;TZID=America/Phoenix:20230816T203000
DTSTAMP:20260423T155301
CREATED:20230719T221543Z
LAST-MODIFIED:20260422T230857Z
UID:14352-1692214200-1692217800@truelunar.com
SUMMARY:Look for New Moon (6th Mo.)
DESCRIPTION:
URL:https://truelunar.com/event/look-for-new-moon-6th-mo-67/
LOCATION:THE HEAVENS
CATEGORIES:Feasts & Sabbath
END:VEVENT
BEGIN:VEVENT
DTSTART;TZID=America/Phoenix:20230816T193000
DTEND;TZID=America/Phoenix:20230816T203000
DTSTAMP:20260423T155301
CREATED:20230719T221543Z
LAST-MODIFIED:20260422T230857Z
UID:14353-1692214200-1692217800@truelunar.com
SUMMARY:Look for New Moon (6th Mo.)
DESCRIPTION:
URL:https://truelunar.com/event/look-for-new-moon-6th-mo-68/
LOCATION:THE HEAVENS
CATEGORIES:Feasts & Sabbath
END:VEVENT
END:VCALENDAR