BEGIN:VCALENDAR
VERSION:2.0
PRODID:-//TrueLunar - ECPv6.15.20//NONSGML v1.0//EN
CALSCALE:GREGORIAN
METHOD:PUBLISH
X-ORIGINAL-URL:https://truelunar.com
X-WR-CALDESC:Events for TrueLunar
REFRESH-INTERVAL;VALUE=DURATION:PT1H
X-Robots-Tag:noindex
X-PUBLISHED-TTL:PT1H
BEGIN:VTIMEZONE
TZID:America/Phoenix
BEGIN:STANDARD
TZOFFSETFROM:-0700
TZOFFSETTO:-0700
TZNAME:MST
DTSTART:20220101T000000
END:STANDARD
END:VTIMEZONE
BEGIN:VEVENT
DTSTART;TZID=America/Phoenix:20230915T190000
DTEND;TZID=America/Phoenix:20230915T203000
DTSTAMP:20260423T142924
CREATED:20230818T234902Z
LAST-MODIFIED:20260422T230909Z
UID:14837-1694804400-1694809800@truelunar.com
SUMMARY:Look for New Moon (7th Mo.)
DESCRIPTION:
URL:https://truelunar.com/event/look-for-new-moon-7th-mo-67/
LOCATION:THE HEAVENS
CATEGORIES:Feasts & Sabbath
END:VEVENT
BEGIN:VEVENT
DTSTART;TZID=America/Phoenix:20230915T190000
DTEND;TZID=America/Phoenix:20230915T203000
DTSTAMP:20260423T142924
CREATED:20230818T235102Z
LAST-MODIFIED:20260422T230917Z
UID:14838-1694804400-1694809800@truelunar.com
SUMMARY:Look for New Moon (7th Mo.)
DESCRIPTION:
URL:https://truelunar.com/event/look-for-new-moon-7th-mo-68/
LOCATION:THE HEAVENS
CATEGORIES:Feasts & Sabbath
END:VEVENT
END:VCALENDAR