BEGIN:VCALENDAR
VERSION:2.0
PRODID:-//TrueLunar - ECPv6.15.20//NONSGML v1.0//EN
CALSCALE:GREGORIAN
METHOD:PUBLISH
X-WR-CALNAME:TrueLunar
X-ORIGINAL-URL:https://truelunar.com
X-WR-CALDESC:Events for TrueLunar
REFRESH-INTERVAL;VALUE=DURATION:PT1H
X-Robots-Tag:noindex
X-PUBLISHED-TTL:PT1H
BEGIN:VTIMEZONE
TZID:America/Phoenix
BEGIN:STANDARD
TZOFFSETFROM:-0700
TZOFFSETTO:-0700
TZNAME:MST
DTSTART:20220101T000000
END:STANDARD
END:VTIMEZONE
BEGIN:VEVENT
DTSTART;TZID=America/Phoenix:20230925T183000
DTEND;TZID=America/Phoenix:20230926T183000
DTSTAMP:20260423T142815
CREATED:20230917T231806Z
LAST-MODIFIED:20260422T230917Z
UID:15175-1695666600-1695753000@truelunar.com
SUMMARY:Yom Kippur - Holy Day (FAST)
DESCRIPTION:
URL:https://truelunar.com/event/yom-kippur-holy-day-fast-22/
LOCATION:HOME
CATEGORIES:Feasts & Sabbath
END:VEVENT
END:VCALENDAR