BEGIN:VCALENDAR
VERSION:2.0
PRODID:-//TrueLunar - ECPv6.15.20//NONSGML v1.0//EN
CALSCALE:GREGORIAN
METHOD:PUBLISH
X-ORIGINAL-URL:https://truelunar.com
X-WR-CALDESC:Events for TrueLunar
REFRESH-INTERVAL;VALUE=DURATION:PT1H
X-Robots-Tag:noindex
X-PUBLISHED-TTL:PT1H
BEGIN:VTIMEZONE
TZID:America/Phoenix
BEGIN:STANDARD
TZOFFSETFROM:-0700
TZOFFSETTO:-0700
TZNAME:MST
DTSTART:20230101T000000
END:STANDARD
END:VTIMEZONE
BEGIN:VEVENT
DTSTART;TZID=America/Phoenix:20241031T180000
DTEND;TZID=America/Phoenix:20241101T180000
DTSTAMP:20260421T183423
CREATED:20241104T000907Z
LAST-MODIFIED:20260421T230447Z
UID:23008-1730397600-1730484000@truelunar.com
SUMMARY:SABBATH (8th Mo./Bul)
DESCRIPTION:
URL:https://truelunar.com/event/sabbath-8th-mo-bul-25/
LOCATION:HOME OR SET APART GATHERING
CATEGORIES:Feasts & Sabbath
END:VEVENT
END:VCALENDAR