BEGIN:VCALENDAR
VERSION:2.0
PRODID:-//TrueLunar - ECPv6.15.20//NONSGML v1.0//EN
CALSCALE:GREGORIAN
METHOD:PUBLISH
X-ORIGINAL-URL:https://truelunar.com
X-WR-CALDESC:Events for TrueLunar
REFRESH-INTERVAL;VALUE=DURATION:PT1H
X-Robots-Tag:noindex
X-PUBLISHED-TTL:PT1H
BEGIN:VTIMEZONE
TZID:America/Phoenix
BEGIN:STANDARD
TZOFFSETFROM:-0700
TZOFFSETTO:-0700
TZNAME:MST
DTSTART:20230101T000000
END:STANDARD
END:VTIMEZONE
BEGIN:VEVENT
DTSTART;TZID=America/Phoenix:20241130T173000
DTEND;TZID=America/Phoenix:20241201T173000
DTSTAMP:20260424T053720
CREATED:20241105T213333Z
LAST-MODIFIED:20260423T230559Z
UID:23121-1732987800-1733074200@truelunar.com
SUMMARY:SABBATH (9th Mo./Kislev)
DESCRIPTION:
URL:https://truelunar.com/event/sabbath-9th-mo-kislev-25/
LOCATION:Home or Set Apart Gathering
CATEGORIES:Feasts & Sabbath
END:VEVENT
BEGIN:VEVENT
DTSTART;TZID=America/Phoenix:20241202T173000
DTEND;TZID=America/Phoenix:20241202T200000
DTSTAMP:20260424T053720
CREATED:20241105T213333Z
LAST-MODIFIED:20260423T230559Z
UID:23122-1733160600-1733169600@truelunar.com
SUMMARY:Look for New Moon (10th Mo. / Tebeth)
DESCRIPTION:
URL:https://truelunar.com/event/look-for-new-moon-10th-mo-tebeth-12/
LOCATION:THE HEAVENS
CATEGORIES:Feasts & Sabbath
END:VEVENT
BEGIN:VEVENT
DTSTART;TZID=America/Phoenix:20241202T173000
DTEND;TZID=America/Phoenix:20241202T200000
DTSTAMP:20260424T053720
CREATED:20241105T213333Z
LAST-MODIFIED:20260423T230609Z
UID:23123-1733160600-1733169600@truelunar.com
SUMMARY:Look for New Moon (10th Mo. / Tebeth)
DESCRIPTION:
URL:https://truelunar.com/event/look-for-new-moon-10th-mo-tebeth-13/
LOCATION:THE HEAVENS
CATEGORIES:Feasts & Sabbath
END:VEVENT
BEGIN:VEVENT
DTSTART;TZID=America/Phoenix:20241202T173000
DTEND;TZID=America/Phoenix:20241203T173000
DTSTAMP:20260424T053720
CREATED:20241203T222228Z
LAST-MODIFIED:20260423T230559Z
UID:23852-1733160600-1733247000@truelunar.com
SUMMARY:New Moon (10th Mo./Tebeth)
DESCRIPTION:
URL:https://truelunar.com/event/new-moon-10th-mo-tebeth-5/
LOCATION:THE HEAVENS
CATEGORIES:Feasts & Sabbath
END:VEVENT
BEGIN:VEVENT
DTSTART;TZID=America/Phoenix:20241203T173000
DTEND;TZID=America/Phoenix:20241203T200000
DTSTAMP:20260424T053720
CREATED:20241105T213340Z
LAST-MODIFIED:20241202T230810Z
UID:23124-1733247000-1733256000@truelunar.com
SUMMARY:Look for New Moon (10th Mo. / Tebeth)
DESCRIPTION:
URL:https://truelunar.com/event/look-for-new-moon-10th-mo-tebeth-14/
LOCATION:THE HEAVENS
CATEGORIES:Feasts & Sabbath
END:VEVENT
BEGIN:VEVENT
DTSTART;TZID=America/Phoenix:20241208T173000
DTEND;TZID=America/Phoenix:20241209T173000
DTSTAMP:20260424T053720
CREATED:20241203T222413Z
LAST-MODIFIED:20260423T230610Z
UID:23853-1733679000-1733765400@truelunar.com
SUMMARY:SABBATH (10th Mo./Tebeth)
DESCRIPTION:
URL:https://truelunar.com/event/sabbath-10th-mo-tebeth-27/
LOCATION:Home or Set Apart Gathering
CATEGORIES:Feasts & Sabbath
END:VEVENT
BEGIN:VEVENT
DTSTART;TZID=America/Phoenix:20241208T173000
DTEND;TZID=America/Phoenix:20241209T173000
DTSTAMP:20260424T053720
CREATED:20241203T222413Z
LAST-MODIFIED:20260423T230610Z
UID:23854-1733679000-1733765400@truelunar.com
SUMMARY:SABBATH (10th Mo./Tebeth)
DESCRIPTION:
URL:https://truelunar.com/event/sabbath-10th-mo-tebeth-28/
LOCATION:Home or Set Apart Gathering
CATEGORIES:Feasts & Sabbath
END:VEVENT
BEGIN:VEVENT
DTSTART;TZID=America/Phoenix:20241215T173000
DTEND;TZID=America/Phoenix:20241216T173000
DTSTAMP:20260424T053720
CREATED:20241203T222414Z
LAST-MODIFIED:20260423T230610Z
UID:23855-1734283800-1734370200@truelunar.com
SUMMARY:SABBATH (10th Mo./Tebeth)
DESCRIPTION:
URL:https://truelunar.com/event/sabbath-10th-mo-tebeth-29/
LOCATION:Home or Set Apart Gathering
CATEGORIES:Feasts & Sabbath
END:VEVENT
BEGIN:VEVENT
DTSTART;TZID=America/Phoenix:20241222T173000
DTEND;TZID=America/Phoenix:20241223T173000
DTSTAMP:20260424T053720
CREATED:20241203T222414Z
LAST-MODIFIED:20260423T230610Z
UID:23856-1734888600-1734975000@truelunar.com
SUMMARY:SABBATH (10th Mo./Tebeth)
DESCRIPTION:
URL:https://truelunar.com/event/sabbath-10th-mo-tebeth-30/
LOCATION:Home or Set Apart Gathering
CATEGORIES:Feasts & Sabbath
END:VEVENT
BEGIN:VEVENT
DTSTART;TZID=America/Phoenix:20241229T173000
DTEND;TZID=America/Phoenix:20241230T173000
DTSTAMP:20260424T053720
CREATED:20241203T222625Z
LAST-MODIFIED:20260423T230615Z
UID:23857-1735493400-1735579800@truelunar.com
SUMMARY:SABBATH (10th Mo./Tebeth)
DESCRIPTION:
URL:https://truelunar.com/event/sabbath-10th-mo-tebeth-31/
LOCATION:Home or Set Apart Gathering
CATEGORIES:Feasts & Sabbath
END:VEVENT
BEGIN:VEVENT
DTSTART;TZID=America/Phoenix:20241231T173000
DTEND;TZID=America/Phoenix:20241231T193000
DTSTAMP:20260424T053720
CREATED:20241203T222625Z
LAST-MODIFIED:20260423T230616Z
UID:23859-1735666200-1735673400@truelunar.com
SUMMARY:Look for New Moon (11th Mo. / Sebat)
DESCRIPTION:
URL:https://truelunar.com/event/look-for-new-moon-11th-mo-sebat-18/
LOCATION:THE HEAVENS
CATEGORIES:Feasts & Sabbath
END:VEVENT
BEGIN:VEVENT
DTSTART;TZID=America/Phoenix:20241231T173000
DTEND;TZID=America/Phoenix:20241231T193000
DTSTAMP:20260424T053720
CREATED:20241203T222625Z
LAST-MODIFIED:20260423T230616Z
UID:23858-1735666200-1735673400@truelunar.com
SUMMARY:Look for New Moon (11th Mo. / Sebat)
DESCRIPTION:
URL:https://truelunar.com/event/look-for-new-moon-11th-mo-sebat-17/
LOCATION:THE HEAVENS
CATEGORIES:Feasts & Sabbath
END:VEVENT
END:VCALENDAR