BEGIN:VCALENDAR
VERSION:2.0
PRODID:-//TrueLunar - ECPv6.15.20//NONSGML v1.0//EN
CALSCALE:GREGORIAN
METHOD:PUBLISH
X-ORIGINAL-URL:https://truelunar.com
X-WR-CALDESC:Events for TrueLunar
REFRESH-INTERVAL;VALUE=DURATION:PT1H
X-Robots-Tag:noindex
X-PUBLISHED-TTL:PT1H
BEGIN:VTIMEZONE
TZID:America/Phoenix
BEGIN:STANDARD
TZOFFSETFROM:-0700
TZOFFSETTO:-0700
TZNAME:MST
DTSTART:20240101T000000
END:STANDARD
END:VTIMEZONE
BEGIN:VEVENT
DTSTART;TZID=America/Phoenix:20250301T180000
DTEND;TZID=America/Phoenix:20250301T190000
DTSTAMP:20260424T003721
CREATED:20250201T001550Z
LAST-MODIFIED:20250301T233651Z
UID:25426-1740852000-1740855600@truelunar.com
SUMMARY:Look for New Moon (1st or 13th Mo.)
DESCRIPTION:
URL:https://truelunar.com/event/look-for-new-moon-1st-or-13th-mo-12/
LOCATION:SKY
CATEGORIES:Feasts & Sabbath
END:VEVENT
BEGIN:VEVENT
DTSTART;TZID=America/Phoenix:20250301T183000
DTEND;TZID=America/Phoenix:20250302T183000
DTSTAMP:20260424T003721
CREATED:20250303T000217Z
LAST-MODIFIED:20260423T230652Z
UID:26253-1740853800-1740940200@truelunar.com
SUMMARY:New Moon (13th Mo. / Adar Bet)
DESCRIPTION:
URL:https://truelunar.com/event/new-moon-13th-mo-adar-bet-2/
LOCATION:THE HEAVENS
CATEGORIES:Feasts & Sabbath
END:VEVENT
BEGIN:VEVENT
DTSTART;TZID=America/Phoenix:20250307T183000
DTEND;TZID=America/Phoenix:20250308T183000
DTSTAMP:20260424T003721
CREATED:20250303T000217Z
LAST-MODIFIED:20260423T230652Z
UID:26255-1741372200-1741458600@truelunar.com
SUMMARY:Sabbath (13th Mo. / Adar Bet)
DESCRIPTION:
URL:https://truelunar.com/event/sabbath-13th-mo-adar-bet-34/
LOCATION:Home or Set Apart Gathering
CATEGORIES:Feasts & Sabbath
END:VEVENT
BEGIN:VEVENT
DTSTART;TZID=America/Phoenix:20250307T183000
DTEND;TZID=America/Phoenix:20250308T183000
DTSTAMP:20260424T003721
CREATED:20250303T000217Z
LAST-MODIFIED:20260423T230653Z
UID:26256-1741372200-1741458600@truelunar.com
SUMMARY:Sabbath (13th Mo. / Adar Bet)
DESCRIPTION:
URL:https://truelunar.com/event/sabbath-13th-mo-adar-bet-35/
LOCATION:Home or Set Apart Gathering
CATEGORIES:Feasts & Sabbath
END:VEVENT
BEGIN:VEVENT
DTSTART;TZID=America/Phoenix:20250314T183000
DTEND;TZID=America/Phoenix:20250315T183000
DTSTAMP:20260424T003721
CREATED:20250303T000218Z
LAST-MODIFIED:20260423T230653Z
UID:26257-1741977000-1742063400@truelunar.com
SUMMARY:Sabbath (13th Mo. / Adar Bet)
DESCRIPTION:
URL:https://truelunar.com/event/sabbath-13th-mo-adar-bet-36/
LOCATION:Home or Set Apart Gathering
CATEGORIES:Feasts & Sabbath
END:VEVENT
BEGIN:VEVENT
DTSTART;TZID=America/Phoenix:20250321T183000
DTEND;TZID=America/Phoenix:20250322T183000
DTSTAMP:20260424T003721
CREATED:20250303T000218Z
LAST-MODIFIED:20260423T230653Z
UID:26258-1742581800-1742668200@truelunar.com
SUMMARY:Sabbath (13th Mo. / Adar Bet)
DESCRIPTION:
URL:https://truelunar.com/event/sabbath-13th-mo-adar-bet-37/
LOCATION:Home or Set Apart Gathering
CATEGORIES:Feasts & Sabbath
END:VEVENT
BEGIN:VEVENT
DTSTART;TZID=America/Phoenix:20250328T183000
DTEND;TZID=America/Phoenix:20250329T183000
DTSTAMP:20260424T003721
CREATED:20250303T000319Z
LAST-MODIFIED:20260423T230700Z
UID:26259-1743186600-1743273000@truelunar.com
SUMMARY:Sabbath (13th Mo. / Adar Bet)
DESCRIPTION:
URL:https://truelunar.com/event/sabbath-13th-mo-adar-bet-38/
LOCATION:Home or Set Apart Gathering
CATEGORIES:Feasts & Sabbath
END:VEVENT
BEGIN:VEVENT
DTSTART;TZID=America/Phoenix:20250330T183000
DTEND;TZID=America/Phoenix:20250330T203000
DTSTAMP:20260424T003721
CREATED:20250303T000319Z
LAST-MODIFIED:20260423T230700Z
UID:26260-1743359400-1743366600@truelunar.com
SUMMARY:Look for New Moon (1st Mo.)
DESCRIPTION:
URL:https://truelunar.com/event/look-for-new-moon-1st-mo-60/
LOCATION:SKY
CATEGORIES:Feasts & Sabbath
END:VEVENT
BEGIN:VEVENT
DTSTART;TZID=America/Phoenix:20250330T183000
DTEND;TZID=America/Phoenix:20250330T203000
DTSTAMP:20260424T003721
CREATED:20250303T000319Z
LAST-MODIFIED:20260423T230700Z
UID:26261-1743359400-1743366600@truelunar.com
SUMMARY:Look for New Moon (1st Mo.)
DESCRIPTION:
URL:https://truelunar.com/event/look-for-new-moon-1st-mo-61/
LOCATION:SKY
CATEGORIES:Feasts & Sabbath
END:VEVENT
BEGIN:VEVENT
DTSTART;TZID=America/Phoenix:20250330T183000
DTEND;TZID=America/Phoenix:20250331T183000
DTSTAMP:20260424T003721
CREATED:20250331T234702Z
LAST-MODIFIED:20260423T230701Z
UID:27079-1743359400-1743445800@truelunar.com
SUMMARY:New Moon (1st Mo. / Aviv) - HAPPY NEW YEAR
DESCRIPTION:
URL:https://truelunar.com/event/new-moon-1st-mo-aviv-happy-new-year-32/
LOCATION:Home or Set Apart Gathering
CATEGORIES:Feasts & Sabbath
END:VEVENT
BEGIN:VEVENT
DTSTART;TZID=America/Phoenix:20250331T183000
DTEND;TZID=America/Phoenix:20250331T203000
DTSTAMP:20260424T003721
CREATED:20250303T000319Z
LAST-MODIFIED:20250330T235325Z
UID:26262-1743445800-1743453000@truelunar.com
SUMMARY:Look for New Moon (1st Mo.)
DESCRIPTION:
URL:https://truelunar.com/event/look-for-new-moon-1st-mo-62/
LOCATION:SKY
CATEGORIES:Feasts & Sabbath
END:VEVENT
END:VCALENDAR