BEGIN:VCALENDAR
VERSION:2.0
PRODID:-//TrueLunar - ECPv6.15.20//NONSGML v1.0//EN
CALSCALE:GREGORIAN
METHOD:PUBLISH
X-WR-CALNAME:TrueLunar
X-ORIGINAL-URL:https://truelunar.com
X-WR-CALDESC:Events for TrueLunar
REFRESH-INTERVAL;VALUE=DURATION:PT1H
X-Robots-Tag:noindex
X-PUBLISHED-TTL:PT1H
BEGIN:VTIMEZONE
TZID:America/Phoenix
BEGIN:STANDARD
TZOFFSETFROM:-0700
TZOFFSETTO:-0700
TZNAME:MST
DTSTART:20240101T000000
END:STANDARD
END:VTIMEZONE
BEGIN:VEVENT
DTSTART;TZID=America/Phoenix:20250405T183000
DTEND;TZID=America/Phoenix:20250406T183000
DTSTAMP:20260423T230236
CREATED:20250331T234702Z
LAST-MODIFIED:20260423T230701Z
UID:27080-1743877800-1743964200@truelunar.com
SUMMARY:Sabbath (1st Mo./Aviv)
DESCRIPTION:
URL:https://truelunar.com/event/sabbath-1st-mo-aviv-225/
LOCATION:Home or Set Apart Gathering
CATEGORIES:Feasts & Sabbath
END:VEVENT
BEGIN:VEVENT
DTSTART;TZID=America/Phoenix:20250405T183000
DTEND;TZID=America/Phoenix:20250406T183000
DTSTAMP:20260423T230236
CREATED:20250331T234705Z
LAST-MODIFIED:20260423T230704Z
UID:27081-1743877800-1743964200@truelunar.com
SUMMARY:Sabbath (1st Mo./Aviv)
DESCRIPTION:
URL:https://truelunar.com/event/sabbath-1st-mo-aviv-226/
LOCATION:Home or Set Apart Gathering
CATEGORIES:Feasts & Sabbath
END:VEVENT
BEGIN:VEVENT
DTSTART;VALUE=DATE:20250411
DTEND;VALUE=DATE:20250412
DTSTAMP:20260423T230236
CREATED:20250331T234705Z
LAST-MODIFIED:20260423T230704Z
UID:27083-1744329600-1744415999@truelunar.com
SUMMARY:REMOVE ALL LEAVEN
DESCRIPTION:
URL:https://truelunar.com/event/remove-all-leaven/
LOCATION:ENTIRE HOUSE
CATEGORIES:Feasts & Sabbath
END:VEVENT
BEGIN:VEVENT
DTSTART;TZID=America/Phoenix:20250412T183000
DTEND;TZID=America/Phoenix:20250413T183000
DTSTAMP:20260423T230236
CREATED:20250331T234705Z
LAST-MODIFIED:20260423T230705Z
UID:27084-1744482600-1744569000@truelunar.com
SUMMARY:Sabbath (1st Mo./Aviv)
DESCRIPTION:
URL:https://truelunar.com/event/sabbath-1st-mo-aviv-227/
LOCATION:Home or Set Apart Gathering
CATEGORIES:Feasts & Sabbath
END:VEVENT
BEGIN:VEVENT
DTSTART;TZID=America/Phoenix:20250412T183000
DTEND;TZID=America/Phoenix:20250413T183000
DTSTAMP:20260423T230236
CREATED:20250331T234708Z
LAST-MODIFIED:20260423T230704Z
UID:27088-1744482600-1744569000@truelunar.com
SUMMARY:Passover (Aviv 14) - Holy Day
DESCRIPTION:
URL:https://truelunar.com/event/passover-aviv-14-holy-day-33/
LOCATION:Home or Set Apart Gathering
CATEGORIES:Feasts & Sabbath
END:VEVENT
BEGIN:VEVENT
DTSTART;TZID=America/Phoenix:20250413T182500
DTEND;TZID=America/Phoenix:20250414T182500
DTSTAMP:20260423T230236
CREATED:20250331T234708Z
LAST-MODIFIED:20260423T230705Z
UID:27089-1744568700-1744655100@truelunar.com
SUMMARY:Feast of First Fruits - Holy Day - NO WORK
DESCRIPTION:Holy Day – No Work:\nThe Day of Resurrection / The Lord’s Day.
URL:https://truelunar.com/event/feast-of-first-fruits-holy-day-no-work-3/
LOCATION:Home or Set Apart Gathering
CATEGORIES:Feasts & Sabbath
END:VEVENT
BEGIN:VEVENT
DTSTART;TZID=America/Phoenix:20250413T183000
DTEND;TZID=America/Phoenix:20250420T183000
DTSTAMP:20260423T230236
CREATED:20250331T234706Z
LAST-MODIFIED:20260423T230713Z
UID:27086-1744569000-1745173800@truelunar.com
SUMMARY:Feast of Unleavened Bread
DESCRIPTION:
URL:https://truelunar.com/event/feast-of-unleavened-bread-35/
LOCATION:Home or Set Apart Gathering
CATEGORIES:Feasts & Sabbath
END:VEVENT
BEGIN:VEVENT
DTSTART;TZID=America/Phoenix:20250419T183000
DTEND;TZID=America/Phoenix:20250420T183000
DTSTAMP:20260423T230236
CREATED:20250331T234706Z
LAST-MODIFIED:20260423T230712Z
UID:27085-1745087400-1745173800@truelunar.com
SUMMARY:Sabbath (1st Mo./Aviv)
DESCRIPTION:
URL:https://truelunar.com/event/sabbath-1st-mo-aviv-228/
LOCATION:Home or Set Apart Gathering
CATEGORIES:Feasts & Sabbath
END:VEVENT
BEGIN:VEVENT
DTSTART;TZID=America/Phoenix:20250419T183000
DTEND;TZID=America/Phoenix:20250420T183000
DTSTAMP:20260423T230236
CREATED:20250331T234708Z
LAST-MODIFIED:20260423T230713Z
UID:27090-1745087400-1745173800@truelunar.com
SUMMARY:Holy Day - NO WORK
DESCRIPTION:
URL:https://truelunar.com/event/holy-day-no-work-94/
CATEGORIES:Feasts & Sabbath
END:VEVENT
BEGIN:VEVENT
DTSTART;TZID=America/Phoenix:20250426T183000
DTEND;TZID=America/Phoenix:20250427T183000
DTSTAMP:20260423T230236
CREATED:20250331T234709Z
LAST-MODIFIED:20260423T230713Z
UID:27092-1745692200-1745778600@truelunar.com
SUMMARY:Sabbath (1st Mo./Aviv)
DESCRIPTION:
URL:https://truelunar.com/event/sabbath-1st-mo-aviv-229/
LOCATION:Home or Set Apart Gathering
CATEGORIES:Feasts & Sabbath
END:VEVENT
BEGIN:VEVENT
DTSTART;TZID=America/Phoenix:20250428T183000
DTEND;TZID=America/Phoenix:20250428T200000
DTSTAMP:20260423T230236
CREATED:20250331T234709Z
LAST-MODIFIED:20260423T230713Z
UID:27093-1745865000-1745870400@truelunar.com
SUMMARY:Look for New Moon (2nd Mo./Ziv)
DESCRIPTION:
URL:https://truelunar.com/event/look-for-new-moon-2nd-mo-ziv-73/
LOCATION:HEAVENS
CATEGORIES:Feasts & Sabbath
END:VEVENT
BEGIN:VEVENT
DTSTART;TZID=America/Phoenix:20250428T183000
DTEND;TZID=America/Phoenix:20250428T200000
DTSTAMP:20260423T230236
CREATED:20250331T234710Z
LAST-MODIFIED:20260423T230715Z
UID:27094-1745865000-1745870400@truelunar.com
SUMMARY:Look for New Moon (2nd Mo./Ziv)
DESCRIPTION:
URL:https://truelunar.com/event/look-for-new-moon-2nd-mo-ziv-74/
LOCATION:HEAVENS
CATEGORIES:Feasts & Sabbath
END:VEVENT
BEGIN:VEVENT
DTSTART;TZID=America/Phoenix:20250428T190000
DTEND;TZID=America/Phoenix:20250429T190000
DTSTAMP:20260423T230236
CREATED:20250429T224111Z
LAST-MODIFIED:20260423T230715Z
UID:27960-1745866800-1745953200@truelunar.com
SUMMARY:New Moon (2nd Mo./Ziv)
DESCRIPTION:
URL:https://truelunar.com/event/new-moon-2nd-mo-ziv-35/
LOCATION:THE HEAVENS
CATEGORIES:Feasts & Sabbath
END:VEVENT
BEGIN:VEVENT
DTSTART;TZID=America/Phoenix:20250429T183000
DTEND;TZID=America/Phoenix:20250429T200000
DTSTAMP:20260423T230236
CREATED:20250331T234710Z
LAST-MODIFIED:20250428T223500Z
UID:27095-1745951400-1745956800@truelunar.com
SUMMARY:Look for New Moon (2nd Mo./Ziv)
DESCRIPTION:
URL:https://truelunar.com/event/look-for-new-moon-2nd-mo-ziv-75/
LOCATION:HEAVENS
CATEGORIES:Feasts & Sabbath
END:VEVENT
END:VCALENDAR