BEGIN:VCALENDAR
VERSION:2.0
PRODID:-//TrueLunar - ECPv6.15.20//NONSGML v1.0//EN
CALSCALE:GREGORIAN
METHOD:PUBLISH
X-ORIGINAL-URL:https://truelunar.com
X-WR-CALDESC:Events for TrueLunar
REFRESH-INTERVAL;VALUE=DURATION:PT1H
X-Robots-Tag:noindex
X-PUBLISHED-TTL:PT1H
BEGIN:VTIMEZONE
TZID:America/Phoenix
BEGIN:STANDARD
TZOFFSETFROM:-0700
TZOFFSETTO:-0700
TZNAME:MST
DTSTART:20240101T000000
END:STANDARD
END:VTIMEZONE
BEGIN:VEVENT
DTSTART;TZID=America/Phoenix:20250702T194500
DTEND;TZID=America/Phoenix:20250703T194500
DTSTAMP:20260423T133220
CREATED:20250627T231151Z
LAST-MODIFIED:20260422T230300Z
UID:29812-1751485500-1751571900@truelunar.com
SUMMARY:Sabbath (4th Month)
DESCRIPTION:
URL:https://truelunar.com/event/sabbath-4th-month-168/
LOCATION:HOME OR SET APART GATHERING
CATEGORIES:Feasts & Sabbath
END:VEVENT
BEGIN:VEVENT
DTSTART;TZID=America/Phoenix:20250702T194500
DTEND;TZID=America/Phoenix:20250703T194500
DTSTAMP:20260423T133220
CREATED:20250627T231152Z
LAST-MODIFIED:20260422T230300Z
UID:29813-1751485500-1751571900@truelunar.com
SUMMARY:Sabbath (4th Month)
DESCRIPTION:
URL:https://truelunar.com/event/sabbath-4th-month-169/
LOCATION:HOME OR SET APART GATHERING
CATEGORIES:Feasts & Sabbath
END:VEVENT
BEGIN:VEVENT
DTSTART;TZID=America/Phoenix:20250709T194500
DTEND;TZID=America/Phoenix:20250710T194500
DTSTAMP:20260423T133220
CREATED:20250627T231152Z
LAST-MODIFIED:20260422T230301Z
UID:29814-1752090300-1752176700@truelunar.com
SUMMARY:Sabbath (4th Month)
DESCRIPTION:
URL:https://truelunar.com/event/sabbath-4th-month-170/
LOCATION:HOME OR SET APART GATHERING
CATEGORIES:Feasts & Sabbath
END:VEVENT
BEGIN:VEVENT
DTSTART;TZID=America/Phoenix:20250716T194500
DTEND;TZID=America/Phoenix:20250717T194500
DTSTAMP:20260423T133220
CREATED:20250627T231152Z
LAST-MODIFIED:20260422T230301Z
UID:29815-1752695100-1752781500@truelunar.com
SUMMARY:Sabbath (4th Month)
DESCRIPTION:
URL:https://truelunar.com/event/sabbath-4th-month-171/
LOCATION:HOME OR SET APART GATHERING
CATEGORIES:Feasts & Sabbath
END:VEVENT
BEGIN:VEVENT
DTSTART;TZID=America/Phoenix:20250723T194500
DTEND;TZID=America/Phoenix:20250724T194500
DTSTAMP:20260423T133220
CREATED:20250627T231153Z
LAST-MODIFIED:20260422T230301Z
UID:29816-1753299900-1753386300@truelunar.com
SUMMARY:Sabbath (4th Month)
DESCRIPTION:
URL:https://truelunar.com/event/sabbath-4th-month-172/
LOCATION:HOME OR SET APART GATHERING
CATEGORIES:Feasts & Sabbath
END:VEVENT
BEGIN:VEVENT
DTSTART;TZID=America/Phoenix:20250725T193000
DTEND;TZID=America/Phoenix:20250725T203000
DTSTAMP:20260423T133220
CREATED:20250627T231234Z
LAST-MODIFIED:20260422T230310Z
UID:29817-1753471800-1753475400@truelunar.com
SUMMARY:Look for New Moon (5th Mo.)
DESCRIPTION:
URL:https://truelunar.com/event/look-for-new-moon-5th-mo-99/
LOCATION:THE HEAVENS
CATEGORIES:Feasts & Sabbath
END:VEVENT
BEGIN:VEVENT
DTSTART;TZID=America/Phoenix:20250725T193000
DTEND;TZID=America/Phoenix:20250725T203000
DTSTAMP:20260423T133220
CREATED:20250627T231234Z
LAST-MODIFIED:20260422T230311Z
UID:29818-1753471800-1753475400@truelunar.com
SUMMARY:Look for New Moon (5th Mo.)
DESCRIPTION:
URL:https://truelunar.com/event/look-for-new-moon-5th-mo-100/
LOCATION:THE HEAVENS
CATEGORIES:Feasts & Sabbath
END:VEVENT
BEGIN:VEVENT
DTSTART;TZID=America/Phoenix:20250725T194000
DTEND;TZID=America/Phoenix:20250726T194000
DTSTAMP:20260423T133220
CREATED:20250726T234538Z
LAST-MODIFIED:20260422T230311Z
UID:30715-1753472400-1753558800@truelunar.com
SUMMARY:New Moon (5th Month)
DESCRIPTION:
URL:https://truelunar.com/event/new-moon-5th-month-35/
LOCATION:THE HEAVENS
CATEGORIES:Feasts & Sabbath
END:VEVENT
BEGIN:VEVENT
DTSTART;TZID=America/Phoenix:20250726T193000
DTEND;TZID=America/Phoenix:20250726T203000
DTSTAMP:20260423T133220
CREATED:20250627T231234Z
LAST-MODIFIED:20250725T234015Z
UID:29819-1753558200-1753561800@truelunar.com
SUMMARY:Look for New Moon (5th Mo.)
DESCRIPTION:
URL:https://truelunar.com/event/look-for-new-moon-5th-mo-101/
LOCATION:THE HEAVENS
CATEGORIES:Feasts & Sabbath
END:VEVENT
BEGIN:VEVENT
DTSTART;TZID=America/Phoenix:20250731T193000
DTEND;TZID=America/Phoenix:20250801T193000
DTSTAMP:20260423T133220
CREATED:20250726T234539Z
LAST-MODIFIED:20260422T230311Z
UID:30717-1753990200-1754076600@truelunar.com
SUMMARY:SABBATH (5th Mo.)
DESCRIPTION:
URL:https://truelunar.com/event/sabbath-5th-mo-166/
LOCATION:Set Apart Gathering or Home
CATEGORIES:Feasts & Sabbath
END:VEVENT
BEGIN:VEVENT
DTSTART;TZID=America/Phoenix:20250731T193000
DTEND;TZID=America/Phoenix:20250801T193000
DTSTAMP:20260423T133220
CREATED:20250726T234540Z
LAST-MODIFIED:20260422T230311Z
UID:30718-1753990200-1754076600@truelunar.com
SUMMARY:SABBATH (5th Mo.)
DESCRIPTION:
URL:https://truelunar.com/event/sabbath-5th-mo-167/
LOCATION:Set Apart Gathering or Home
CATEGORIES:Feasts & Sabbath
END:VEVENT
END:VCALENDAR