BEGIN:VCALENDAR
VERSION:2.0
PRODID:-//TrueLunar - ECPv6.15.20//NONSGML v1.0//EN
CALSCALE:GREGORIAN
METHOD:PUBLISH
X-WR-CALNAME:TrueLunar
X-ORIGINAL-URL:https://truelunar.com
X-WR-CALDESC:Events for TrueLunar
REFRESH-INTERVAL;VALUE=DURATION:PT1H
X-Robots-Tag:noindex
X-PUBLISHED-TTL:PT1H
BEGIN:VTIMEZONE
TZID:America/Phoenix
BEGIN:STANDARD
TZOFFSETFROM:-0700
TZOFFSETTO:-0700
TZNAME:MST
DTSTART:20240101T000000
END:STANDARD
END:VTIMEZONE
BEGIN:VEVENT
DTSTART;TZID=America/Phoenix:20250731T193000
DTEND;TZID=America/Phoenix:20250801T193000
DTSTAMP:20260423T120249
CREATED:20250726T234539Z
LAST-MODIFIED:20260422T230311Z
UID:30717-1753990200-1754076600@truelunar.com
SUMMARY:SABBATH (5th Mo.)
DESCRIPTION:
URL:https://truelunar.com/event/sabbath-5th-mo-166/
LOCATION:Set Apart Gathering or Home
CATEGORIES:Feasts & Sabbath
END:VEVENT
BEGIN:VEVENT
DTSTART;TZID=America/Phoenix:20250731T193000
DTEND;TZID=America/Phoenix:20250801T193000
DTSTAMP:20260423T120249
CREATED:20250726T234540Z
LAST-MODIFIED:20260422T230311Z
UID:30718-1753990200-1754076600@truelunar.com
SUMMARY:SABBATH (5th Mo.)
DESCRIPTION:
URL:https://truelunar.com/event/sabbath-5th-mo-167/
LOCATION:Set Apart Gathering or Home
CATEGORIES:Feasts & Sabbath
END:VEVENT
BEGIN:VEVENT
DTSTART;TZID=America/Phoenix:20250807T193000
DTEND;TZID=America/Phoenix:20250808T193000
DTSTAMP:20260423T120249
CREATED:20250726T234559Z
LAST-MODIFIED:20260422T230314Z
UID:30719-1754595000-1754681400@truelunar.com
SUMMARY:SABBATH (5th Mo.)
DESCRIPTION:
URL:https://truelunar.com/event/sabbath-5th-mo-168/
LOCATION:Set Apart Gathering or Home
CATEGORIES:Feasts & Sabbath
END:VEVENT
BEGIN:VEVENT
DTSTART;TZID=America/Phoenix:20250814T193000
DTEND;TZID=America/Phoenix:20250815T193000
DTSTAMP:20260423T120249
CREATED:20250726T234559Z
LAST-MODIFIED:20260422T230314Z
UID:30720-1755199800-1755286200@truelunar.com
SUMMARY:SABBATH (5th Mo.)
DESCRIPTION:
URL:https://truelunar.com/event/sabbath-5th-mo-169/
LOCATION:Set Apart Gathering or Home
CATEGORIES:Feasts & Sabbath
END:VEVENT
BEGIN:VEVENT
DTSTART;TZID=America/Phoenix:20250821T193000
DTEND;TZID=America/Phoenix:20250822T193000
DTSTAMP:20260423T120249
CREATED:20250726T234559Z
LAST-MODIFIED:20260422T230314Z
UID:30721-1755804600-1755891000@truelunar.com
SUMMARY:SABBATH (5th Mo.)
DESCRIPTION:
URL:https://truelunar.com/event/sabbath-5th-mo-170/
LOCATION:Set Apart Gathering or Home
CATEGORIES:Feasts & Sabbath
END:VEVENT
BEGIN:VEVENT
DTSTART;TZID=America/Phoenix:20250823T193000
DTEND;TZID=America/Phoenix:20250823T203000
DTSTAMP:20260423T120249
CREATED:20250726T234559Z
LAST-MODIFIED:20260422T230314Z
UID:30722-1755977400-1755981000@truelunar.com
SUMMARY:Look for New Moon (6th Mo.)
DESCRIPTION:
URL:https://truelunar.com/event/look-for-new-moon-6th-mo-72/
LOCATION:THE HEAVENS
CATEGORIES:Feasts & Sabbath
END:VEVENT
BEGIN:VEVENT
DTSTART;TZID=America/Phoenix:20250823T193000
DTEND;TZID=America/Phoenix:20250823T203000
DTSTAMP:20260423T120249
CREATED:20250726T234600Z
LAST-MODIFIED:20260422T230314Z
UID:30723-1755977400-1755981000@truelunar.com
SUMMARY:Look for New Moon (6th Mo.)
DESCRIPTION:
URL:https://truelunar.com/event/look-for-new-moon-6th-mo-73/
LOCATION:THE HEAVENS
CATEGORIES:Feasts & Sabbath
END:VEVENT
BEGIN:VEVENT
DTSTART;TZID=America/Phoenix:20250824T193000
DTEND;TZID=America/Phoenix:20250824T203000
DTSTAMP:20260423T120249
CREATED:20250726T234618Z
LAST-MODIFIED:20250824T223645Z
UID:30724-1756063800-1756067400@truelunar.com
SUMMARY:Look for New Moon (6th Mo.)
DESCRIPTION:
URL:https://truelunar.com/event/look-for-new-moon-6th-mo-74/
LOCATION:THE HEAVENS
CATEGORIES:Feasts & Sabbath
END:VEVENT
BEGIN:VEVENT
DTSTART;TZID=America/Phoenix:20250824T193000
DTEND;TZID=America/Phoenix:20250825T193000
DTSTAMP:20260423T120249
CREATED:20250825T224801Z
LAST-MODIFIED:20260422T230321Z
UID:31664-1756063800-1756150200@truelunar.com
SUMMARY:New Moon (6th Month)
DESCRIPTION:
URL:https://truelunar.com/event/new-moon-6th-month-34/
LOCATION:THE HEAVENS
CATEGORIES:Feasts & Sabbath
END:VEVENT
BEGIN:VEVENT
DTSTART;TZID=America/Phoenix:20250830T190000
DTEND;TZID=America/Phoenix:20250831T190000
DTSTAMP:20260423T120249
CREATED:20250825T224802Z
LAST-MODIFIED:20260422T230322Z
UID:31666-1756580400-1756666800@truelunar.com
SUMMARY:Sabbath (6th Mo.)
DESCRIPTION:
URL:https://truelunar.com/event/sabbath-6th-mo-166/
LOCATION:HOME OR SET APART GATHERING
CATEGORIES:Feasts & Sabbath
END:VEVENT
BEGIN:VEVENT
DTSTART;TZID=America/Phoenix:20250830T190000
DTEND;TZID=America/Phoenix:20250831T190000
DTSTAMP:20260423T120249
CREATED:20250825T224802Z
LAST-MODIFIED:20260422T230321Z
UID:31667-1756580400-1756666800@truelunar.com
SUMMARY:Sabbath (6th Mo.)
DESCRIPTION:
URL:https://truelunar.com/event/sabbath-6th-mo-167/
LOCATION:HOME OR SET APART GATHERING
CATEGORIES:Feasts & Sabbath
END:VEVENT
END:VCALENDAR