BEGIN:VCALENDAR
VERSION:2.0
PRODID:-//TrueLunar - ECPv6.15.20//NONSGML v1.0//EN
CALSCALE:GREGORIAN
METHOD:PUBLISH
X-ORIGINAL-URL:https://truelunar.com
X-WR-CALDESC:Events for TrueLunar
REFRESH-INTERVAL;VALUE=DURATION:PT1H
X-Robots-Tag:noindex
X-PUBLISHED-TTL:PT1H
BEGIN:VTIMEZONE
TZID:America/Phoenix
BEGIN:STANDARD
TZOFFSETFROM:-0700
TZOFFSETTO:-0700
TZNAME:MST
DTSTART:20240101T000000
END:STANDARD
END:VTIMEZONE
BEGIN:VEVENT
DTSTART;TZID=America/Phoenix:20250906T190000
DTEND;TZID=America/Phoenix:20250907T190000
DTSTAMP:20260423T104431
CREATED:20250825T224803Z
LAST-MODIFIED:20260422T230322Z
UID:31668-1757185200-1757271600@truelunar.com
SUMMARY:Sabbath (6th Mo.)
DESCRIPTION:
URL:https://truelunar.com/event/sabbath-6th-mo-168/
LOCATION:HOME OR SET APART GATHERING
CATEGORIES:Feasts & Sabbath
END:VEVENT
BEGIN:VEVENT
DTSTART;TZID=America/Phoenix:20250913T190000
DTEND;TZID=America/Phoenix:20250914T190000
DTSTAMP:20260423T104431
CREATED:20250825T224803Z
LAST-MODIFIED:20260422T230322Z
UID:31669-1757790000-1757876400@truelunar.com
SUMMARY:Sabbath (6th Mo.)
DESCRIPTION:
URL:https://truelunar.com/event/sabbath-6th-mo-169/
LOCATION:HOME OR SET APART GATHERING
CATEGORIES:Feasts & Sabbath
END:VEVENT
BEGIN:VEVENT
DTSTART;TZID=America/Phoenix:20250920T190000
DTEND;TZID=America/Phoenix:20250921T190000
DTSTAMP:20260423T104431
CREATED:20250825T224812Z
LAST-MODIFIED:20260422T230332Z
UID:31670-1758394800-1758481200@truelunar.com
SUMMARY:Sabbath (6th Mo.)
DESCRIPTION:
URL:https://truelunar.com/event/sabbath-6th-mo-170/
LOCATION:HOME OR SET APART GATHERING
CATEGORIES:Feasts & Sabbath
END:VEVENT
BEGIN:VEVENT
DTSTART;TZID=America/Phoenix:20250922T190000
DTEND;TZID=America/Phoenix:20250922T203000
DTSTAMP:20260423T104431
CREATED:20250825T224812Z
LAST-MODIFIED:20260422T230332Z
UID:31671-1758567600-1758573000@truelunar.com
SUMMARY:Look for New Moon (7th Mo. / Eythanim)
DESCRIPTION:
URL:https://truelunar.com/event/look-for-new-moon-7th-mo-eythanim-3/
LOCATION:THE HEAVENS
CATEGORIES:Feasts & Sabbath
END:VEVENT
BEGIN:VEVENT
DTSTART;TZID=America/Phoenix:20250922T190000
DTEND;TZID=America/Phoenix:20250922T203000
DTSTAMP:20260423T104431
CREATED:20250825T224813Z
LAST-MODIFIED:20260422T230332Z
UID:31672-1758567600-1758573000@truelunar.com
SUMMARY:Look for New Moon (7th Mo. / Eythanim)
DESCRIPTION:
URL:https://truelunar.com/event/look-for-new-moon-7th-mo-eythanim-4/
LOCATION:THE HEAVENS
CATEGORIES:Feasts & Sabbath
END:VEVENT
BEGIN:VEVENT
DTSTART;TZID=America/Phoenix:20250923T183000
DTEND;TZID=America/Phoenix:20250924T183000
DTSTAMP:20260423T104431
CREATED:20250924T234612Z
LAST-MODIFIED:20260422T230332Z
UID:32652-1758652200-1758738600@truelunar.com
SUMMARY:New Moon (7th Mo. / Yom Teruah / Eythanim)
DESCRIPTION:
URL:https://truelunar.com/event/new-moon-7th-mo-yom-teruah-eythanim-32/
CATEGORIES:Feasts & Sabbath
END:VEVENT
BEGIN:VEVENT
DTSTART;TZID=America/Phoenix:20250923T190000
DTEND;TZID=America/Phoenix:20250923T203000
DTSTAMP:20260423T104431
CREATED:20250825T224813Z
LAST-MODIFIED:20260422T230332Z
UID:31673-1758654000-1758659400@truelunar.com
SUMMARY:Look for New Moon (7th Mo. / Eythanim)
DESCRIPTION:
URL:https://truelunar.com/event/look-for-new-moon-7th-mo-eythanim-5/
LOCATION:THE HEAVENS
CATEGORIES:Feasts & Sabbath
END:VEVENT
BEGIN:VEVENT
DTSTART;TZID=America/Phoenix:20250929T183000
DTEND;TZID=America/Phoenix:20250930T183000
DTSTAMP:20260423T104431
CREATED:20250924T234656Z
LAST-MODIFIED:20260422T230336Z
UID:32654-1759170600-1759257000@truelunar.com
SUMMARY:Sabbath (7th Mo./Eythanim)
DESCRIPTION:
URL:https://truelunar.com/event/sabbath-7th-mo-eythanim-167/
LOCATION:Set Apart Gathering or Home
CATEGORIES:Feasts & Sabbath
END:VEVENT
BEGIN:VEVENT
DTSTART;TZID=America/Phoenix:20250929T183000
DTEND;TZID=America/Phoenix:20250930T183000
DTSTAMP:20260423T104431
CREATED:20250924T234656Z
LAST-MODIFIED:20260422T230336Z
UID:32655-1759170600-1759257000@truelunar.com
SUMMARY:Sabbath (7th Mo./Eythanim)
DESCRIPTION:
URL:https://truelunar.com/event/sabbath-7th-mo-eythanim-168/
LOCATION:Set Apart Gathering or Home
CATEGORIES:Feasts & Sabbath
END:VEVENT
END:VCALENDAR