BEGIN:VCALENDAR
VERSION:2.0
PRODID:-//TrueLunar - ECPv6.15.20//NONSGML v1.0//EN
CALSCALE:GREGORIAN
METHOD:PUBLISH
X-WR-CALNAME:TrueLunar
X-ORIGINAL-URL:https://truelunar.com
X-WR-CALDESC:Events for TrueLunar
REFRESH-INTERVAL;VALUE=DURATION:PT1H
X-Robots-Tag:noindex
X-PUBLISHED-TTL:PT1H
BEGIN:VTIMEZONE
TZID:America/Phoenix
BEGIN:STANDARD
TZOFFSETFROM:-0700
TZOFFSETTO:-0700
TZNAME:MST
DTSTART:20240101T000000
END:STANDARD
END:VTIMEZONE
BEGIN:VEVENT
DTSTART;TZID=America/Phoenix:20251002T183000
DTEND;TZID=America/Phoenix:20251003T183000
DTSTAMP:20260423T090650
CREATED:20250924T234657Z
LAST-MODIFIED:20260422T230336Z
UID:32656-1759429800-1759516200@truelunar.com
SUMMARY:Yom Kippur / Day of Atonement / FAST
DESCRIPTION:Holy Day – Fast from sundown to sundwon
URL:https://truelunar.com/event/yom-kippur-day-of-atonement-fast/
LOCATION:HOME OR SET APART GATHERING
CATEGORIES:Feasts & Sabbath
END:VEVENT
BEGIN:VEVENT
DTSTART;TZID=America/Phoenix:20251006T183000
DTEND;TZID=America/Phoenix:20251007T183000
DTSTAMP:20260423T090650
CREATED:20250924T234657Z
LAST-MODIFIED:20260422T230336Z
UID:32658-1759775400-1759861800@truelunar.com
SUMMARY:Sabbath (7th Mo./Eythanim)
DESCRIPTION:
URL:https://truelunar.com/event/sabbath-7th-mo-eythanim-169/
LOCATION:Set Apart Gathering or Home
CATEGORIES:Feasts & Sabbath
END:VEVENT
BEGIN:VEVENT
DTSTART;TZID=America/Phoenix:20251007T183000
DTEND;TZID=America/Phoenix:20251008T183000
DTSTAMP:20260423T090650
CREATED:20250925T234434Z
LAST-MODIFIED:20260422T230336Z
UID:32694-1759861800-1759948200@truelunar.com
SUMMARY:Holy Day - NO WORK
DESCRIPTION:
URL:https://truelunar.com/event/holy-day-no-work-95/
CATEGORIES:Feasts & Sabbath
END:VEVENT
BEGIN:VEVENT
DTSTART;TZID=America/Phoenix:20251007T183000
DTEND;TZID=America/Phoenix:20251015T183000
DTSTAMP:20260423T090650
CREATED:20250924T234657Z
LAST-MODIFIED:20260422T230340Z
UID:32657-1759861800-1760553000@truelunar.com
SUMMARY:Sukkoth (Feast of Tabernacles)
DESCRIPTION:
URL:https://truelunar.com/event/sukkoth-feast-of-tabernacles-23/
CATEGORIES:Feasts & Sabbath
END:VEVENT
BEGIN:VEVENT
DTSTART;TZID=America/Phoenix:20251013T183000
DTEND;TZID=America/Phoenix:20251014T183000
DTSTAMP:20260423T090650
CREATED:20250924T234735Z
LAST-MODIFIED:20260422T230340Z
UID:32659-1760380200-1760466600@truelunar.com
SUMMARY:Sabbath (7th Mo./Eythanim)
DESCRIPTION:
URL:https://truelunar.com/event/sabbath-7th-mo-eythanim-170/
LOCATION:Set Apart Gathering or Home
CATEGORIES:Feasts & Sabbath
END:VEVENT
BEGIN:VEVENT
DTSTART;TZID=America/Phoenix:20251014T183000
DTEND;TZID=America/Phoenix:20251015T183000
DTSTAMP:20260423T090650
CREATED:20250925T234510Z
LAST-MODIFIED:20260422T230340Z
UID:32697-1760466600-1760553000@truelunar.com
SUMMARY:Holy Day - NO WORK
DESCRIPTION:
URL:https://truelunar.com/event/holy-day-no-work-96/
CATEGORIES:Feasts & Sabbath
END:VEVENT
BEGIN:VEVENT
DTSTART;TZID=America/Phoenix:20251020T183000
DTEND;TZID=America/Phoenix:20251021T183000
DTSTAMP:20260423T090650
CREATED:20250924T234736Z
LAST-MODIFIED:20260422T230341Z
UID:32660-1760985000-1761071400@truelunar.com
SUMMARY:Sabbath (7th Mo./Eythanim)
DESCRIPTION:
URL:https://truelunar.com/event/sabbath-7th-mo-eythanim-171/
LOCATION:Set Apart Gathering or Home
CATEGORIES:Feasts & Sabbath
END:VEVENT
BEGIN:VEVENT
DTSTART;TZID=America/Phoenix:20251022T180000
DTEND;TZID=America/Phoenix:20251022T200000
DTSTAMP:20260423T090650
CREATED:20251004T002725Z
LAST-MODIFIED:20260422T230341Z
UID:32981-1761156000-1761163200@truelunar.com
SUMMARY:Look for New Moon (8th Mo. / Bul)
DESCRIPTION:
URL:https://truelunar.com/event/look-for-new-moon-8th-mo-bul-11/
LOCATION:THE HEAVENS
CATEGORIES:Feasts & Sabbath
END:VEVENT
BEGIN:VEVENT
DTSTART;TZID=America/Phoenix:20251022T180000
DTEND;TZID=America/Phoenix:20251022T200000
DTSTAMP:20260423T090650
CREATED:20251004T002728Z
LAST-MODIFIED:20260422T230342Z
UID:32982-1761156000-1761163200@truelunar.com
SUMMARY:Look for New Moon (8th Mo. / Bul)
DESCRIPTION:
URL:https://truelunar.com/event/look-for-new-moon-8th-mo-bul-12/
LOCATION:THE HEAVENS
CATEGORIES:Feasts & Sabbath
END:VEVENT
BEGIN:VEVENT
DTSTART;TZID=America/Phoenix:20251023T180000
DTEND;TZID=America/Phoenix:20251023T200000
DTSTAMP:20260423T090650
CREATED:20251004T002728Z
LAST-MODIFIED:20251023T222415Z
UID:32983-1761242400-1761249600@truelunar.com
SUMMARY:Look for New Moon (8th Mo. / Bul)
DESCRIPTION:
URL:https://truelunar.com/event/look-for-new-moon-8th-mo-bul-13/
LOCATION:THE HEAVENS
CATEGORIES:Feasts & Sabbath
END:VEVENT
BEGIN:VEVENT
DTSTART;TZID=America/Phoenix:20251023T180000
DTEND;TZID=America/Phoenix:20251024T180000
DTSTAMP:20260423T090650
CREATED:20251024T215842Z
LAST-MODIFIED:20260422T230342Z
UID:33670-1761242400-1761328800@truelunar.com
SUMMARY:New Moon (8th Mo./Bul)
DESCRIPTION:
URL:https://truelunar.com/event/new-moon-8th-mo-bul-6/
LOCATION:THE HEVENS
CATEGORIES:Feasts & Sabbath
END:VEVENT
BEGIN:VEVENT
DTSTART;TZID=America/Phoenix:20251029T180000
DTEND;TZID=America/Phoenix:20251030T180000
DTSTAMP:20260423T090650
CREATED:20251024T215842Z
LAST-MODIFIED:20260422T230343Z
UID:33671-1761760800-1761847200@truelunar.com
SUMMARY:SABBATH (8th Mo./Bul)
DESCRIPTION:
URL:https://truelunar.com/event/sabbath-8th-mo-bul-26/
LOCATION:HOME OR SET APART GATHERING
CATEGORIES:Feasts & Sabbath
END:VEVENT
BEGIN:VEVENT
DTSTART;TZID=America/Phoenix:20251029T180000
DTEND;TZID=America/Phoenix:20251030T180000
DTSTAMP:20260423T090650
CREATED:20251024T215842Z
LAST-MODIFIED:20260422T230342Z
UID:33672-1761760800-1761847200@truelunar.com
SUMMARY:SABBATH (8th Mo./Bul)
DESCRIPTION:
URL:https://truelunar.com/event/sabbath-8th-mo-bul-27/
LOCATION:HOME OR SET APART GATHERING
CATEGORIES:Feasts & Sabbath
END:VEVENT
END:VCALENDAR