BEGIN:VCALENDAR
VERSION:2.0
PRODID:-//TrueLunar - ECPv6.15.20//NONSGML v1.0//EN
CALSCALE:GREGORIAN
METHOD:PUBLISH
X-ORIGINAL-URL:https://truelunar.com
X-WR-CALDESC:Events for TrueLunar
REFRESH-INTERVAL;VALUE=DURATION:PT1H
X-Robots-Tag:noindex
X-PUBLISHED-TTL:PT1H
BEGIN:VTIMEZONE
TZID:America/Phoenix
BEGIN:STANDARD
TZOFFSETFROM:-0700
TZOFFSETTO:-0700
TZNAME:MST
DTSTART:20240101T000000
END:STANDARD
END:VTIMEZONE
BEGIN:VEVENT
DTSTART;TZID=America/Phoenix:20250130T180000
DTEND;TZID=America/Phoenix:20250131T180000
DTSTAMP:20260424T035141
CREATED:20250201T001358Z
LAST-MODIFIED:20260423T230626Z
UID:25417-1738260000-1738346400@truelunar.com
SUMMARY:New Moon (12th Mo. / Adar)
DESCRIPTION:
URL:https://truelunar.com/event/new-moon-12th-mo-adar-6/
LOCATION:THE HEAVENS
CATEGORIES:Feasts & Sabbath
END:VEVENT
BEGIN:VEVENT
DTSTART;TZID=America/Phoenix:20250131T173000
DTEND;TZID=America/Phoenix:20250131T193000
DTSTAMP:20260424T035141
CREATED:20250106T224332Z
LAST-MODIFIED:20250130T235830Z
UID:24748-1738344600-1738351800@truelunar.com
SUMMARY:Look for New Moon (12th Mo. / Adar)
DESCRIPTION:
URL:https://truelunar.com/event/look-for-new-moon-12th-mo-adar-19/
LOCATION:THE HEAVENS
CATEGORIES:Feasts & Sabbath
END:VEVENT
END:VCALENDAR