BEGIN:VCALENDAR
VERSION:2.0
PRODID:-//TrueLunar - ECPv6.15.20//NONSGML v1.0//EN
CALSCALE:GREGORIAN
METHOD:PUBLISH
X-ORIGINAL-URL:https://truelunar.com
X-WR-CALDESC:Events for TrueLunar
REFRESH-INTERVAL;VALUE=DURATION:PT1H
X-Robots-Tag:noindex
X-PUBLISHED-TTL:PT1H
BEGIN:VTIMEZONE
TZID:America/Phoenix
BEGIN:STANDARD
TZOFFSETFROM:-0700
TZOFFSETTO:-0700
TZNAME:MST
DTSTART:20240101T000000
END:STANDARD
END:VTIMEZONE
BEGIN:VEVENT
DTSTART;TZID=America/Phoenix:20250301T180000
DTEND;TZID=America/Phoenix:20250301T190000
DTSTAMP:20260424T021813
CREATED:20250201T001550Z
LAST-MODIFIED:20250301T233651Z
UID:25426-1740852000-1740855600@truelunar.com
SUMMARY:Look for New Moon (1st or 13th Mo.)
DESCRIPTION:
URL:https://truelunar.com/event/look-for-new-moon-1st-or-13th-mo-12/
LOCATION:SKY
CATEGORIES:Feasts & Sabbath
END:VEVENT
BEGIN:VEVENT
DTSTART;TZID=America/Phoenix:20250301T183000
DTEND;TZID=America/Phoenix:20250302T183000
DTSTAMP:20260424T021813
CREATED:20250303T000217Z
LAST-MODIFIED:20260423T230652Z
UID:26253-1740853800-1740940200@truelunar.com
SUMMARY:New Moon (13th Mo. / Adar Bet)
DESCRIPTION:
URL:https://truelunar.com/event/new-moon-13th-mo-adar-bet-2/
LOCATION:THE HEAVENS
CATEGORIES:Feasts & Sabbath
END:VEVENT
END:VCALENDAR