BEGIN:VCALENDAR
VERSION:2.0
PRODID:-//TrueLunar - ECPv6.15.20//NONSGML v1.0//EN
CALSCALE:GREGORIAN
METHOD:PUBLISH
X-WR-CALNAME:TrueLunar
X-ORIGINAL-URL:https://truelunar.com
X-WR-CALDESC:Events for TrueLunar
REFRESH-INTERVAL;VALUE=DURATION:PT1H
X-Robots-Tag:noindex
X-PUBLISHED-TTL:PT1H
BEGIN:VTIMEZONE
TZID:America/Phoenix
BEGIN:STANDARD
TZOFFSETFROM:-0700
TZOFFSETTO:-0700
TZNAME:MST
DTSTART:20240101T000000
END:STANDARD
END:VTIMEZONE
BEGIN:VEVENT
DTSTART;TZID=America/Phoenix:20250527T190000
DTEND;TZID=America/Phoenix:20250527T210000
DTSTAMP:20260424T074350
CREATED:20250429T224144Z
LAST-MODIFIED:20260423T230718Z
UID:27967-1748372400-1748379600@truelunar.com
SUMMARY:Look for New Moon (3rd Mo. / Sivan)
DESCRIPTION:
URL:https://truelunar.com/event/look-for-new-moon-3rd-mo-sivan-100/
LOCATION:THE HEAVENS
CATEGORIES:Feasts & Sabbath
END:VEVENT
BEGIN:VEVENT
DTSTART;TZID=America/Phoenix:20250527T190000
DTEND;TZID=America/Phoenix:20250527T210000
DTSTAMP:20260424T074350
CREATED:20250429T224144Z
LAST-MODIFIED:20260423T230718Z
UID:27968-1748372400-1748379600@truelunar.com
SUMMARY:Look for New Moon (3rd Mo. / Sivan)
DESCRIPTION:
URL:https://truelunar.com/event/look-for-new-moon-3rd-mo-sivan-101/
LOCATION:THE HEAVENS
CATEGORIES:Feasts & Sabbath
END:VEVENT
BEGIN:VEVENT
DTSTART;TZID=America/Phoenix:20250527T193000
DTEND;TZID=America/Phoenix:20250528T193000
DTSTAMP:20260424T074350
CREATED:20250528T233900Z
LAST-MODIFIED:20260423T230718Z
UID:28870-1748374200-1748460600@truelunar.com
SUMMARY:New Moon (3rd Mo. / Sivan)
DESCRIPTION:Also\, follow us on Twitter @TruthTableMin
URL:https://truelunar.com/event/new-moon-3rd-mo-sivan-35/
LOCATION:THE HEAVENS
CATEGORIES:Feasts & Sabbath
END:VEVENT
END:VCALENDAR