BEGIN:VCALENDAR
VERSION:2.0
PRODID:-//TrueLunar - ECPv6.15.20//NONSGML v1.0//EN
CALSCALE:GREGORIAN
METHOD:PUBLISH
X-ORIGINAL-URL:https://truelunar.com
X-WR-CALDESC:Events for TrueLunar
REFRESH-INTERVAL;VALUE=DURATION:PT1H
X-Robots-Tag:noindex
X-PUBLISHED-TTL:PT1H
BEGIN:VTIMEZONE
TZID:America/Phoenix
BEGIN:STANDARD
TZOFFSETFROM:-0700
TZOFFSETTO:-0700
TZNAME:MST
DTSTART:20240101T000000
END:STANDARD
END:VTIMEZONE
BEGIN:VEVENT
DTSTART;TZID=America/Phoenix:20250725T194000
DTEND;TZID=America/Phoenix:20250726T194000
DTSTAMP:20260423T150920
CREATED:20250726T234538Z
LAST-MODIFIED:20260422T230311Z
UID:30715-1753472400-1753558800@truelunar.com
SUMMARY:New Moon (5th Month)
DESCRIPTION:
URL:https://truelunar.com/event/new-moon-5th-month-35/
LOCATION:THE HEAVENS
CATEGORIES:Feasts & Sabbath
END:VEVENT
BEGIN:VEVENT
DTSTART;TZID=America/Phoenix:20250726T193000
DTEND;TZID=America/Phoenix:20250726T203000
DTSTAMP:20260423T150920
CREATED:20250627T231234Z
LAST-MODIFIED:20250725T234015Z
UID:29819-1753558200-1753561800@truelunar.com
SUMMARY:Look for New Moon (5th Mo.)
DESCRIPTION:
URL:https://truelunar.com/event/look-for-new-moon-5th-mo-101/
LOCATION:THE HEAVENS
CATEGORIES:Feasts & Sabbath
END:VEVENT
END:VCALENDAR