BEGIN:VCALENDAR
VERSION:2.0
PRODID:-//TrueLunar - ECPv6.15.20//NONSGML v1.0//EN
CALSCALE:GREGORIAN
METHOD:PUBLISH
X-WR-CALNAME:TrueLunar
X-ORIGINAL-URL:https://truelunar.com
X-WR-CALDESC:Events for TrueLunar
REFRESH-INTERVAL;VALUE=DURATION:PT1H
X-Robots-Tag:noindex
X-PUBLISHED-TTL:PT1H
BEGIN:VTIMEZONE
TZID:America/Phoenix
BEGIN:STANDARD
TZOFFSETFROM:-0700
TZOFFSETTO:-0700
TZNAME:MST
DTSTART:20240101T000000
END:STANDARD
END:VTIMEZONE
BEGIN:VEVENT
DTSTART;TZID=America/Phoenix:20251020T183000
DTEND;TZID=America/Phoenix:20251021T183000
DTSTAMP:20260423T104431
CREATED:20250924T234736Z
LAST-MODIFIED:20260422T230341Z
UID:32660-1760985000-1761071400@truelunar.com
SUMMARY:Sabbath (7th Mo./Eythanim)
DESCRIPTION:
URL:https://truelunar.com/event/sabbath-7th-mo-eythanim-171/
LOCATION:Set Apart Gathering or Home
CATEGORIES:Feasts & Sabbath
END:VEVENT
END:VCALENDAR