BEGIN:VCALENDAR
VERSION:2.0
PRODID:-//TrueLunar - ECPv6.15.20//NONSGML v1.0//EN
CALSCALE:GREGORIAN
METHOD:PUBLISH
X-ORIGINAL-URL:https://truelunar.com
X-WR-CALDESC:Events for TrueLunar
REFRESH-INTERVAL;VALUE=DURATION:PT1H
X-Robots-Tag:noindex
X-PUBLISHED-TTL:PT1H
BEGIN:VTIMEZONE
TZID:America/Phoenix
BEGIN:STANDARD
TZOFFSETFROM:-0700
TZOFFSETTO:-0700
TZNAME:MST
DTSTART:20240101T000000
END:STANDARD
END:VTIMEZONE
BEGIN:VEVENT
DTSTART;TZID=America/Phoenix:20251121T173000
DTEND;TZID=America/Phoenix:20251122T173000
DTSTAMP:20260423T090329
CREATED:20251123T014033Z
LAST-MODIFIED:20260422T230353Z
UID:34680-1763746200-1763832600@truelunar.com
SUMMARY:New Moon (9th Mo./Kislev)
DESCRIPTION:
URL:https://truelunar.com/event/new-moon-9th-mo-kislev-6/
LOCATION:THE HEAVENS
CATEGORIES:Feasts & Sabbath
END:VEVENT
BEGIN:VEVENT
DTSTART;TZID=America/Phoenix:20251122T180000
DTEND;TZID=America/Phoenix:20251122T190000
DTSTAMP:20260423T090329
CREATED:20251024T215934Z
LAST-MODIFIED:20251122T000559Z
UID:33678-1763834400-1763838000@truelunar.com
SUMMARY:Look for New Moon (9th Mo. Kislev)
DESCRIPTION:
URL:https://truelunar.com/event/look-for-new-moon-9th-mo-kislev-17/
LOCATION:THE HEAVENS
CATEGORIES:Feasts & Sabbath
END:VEVENT
END:VCALENDAR