BEGIN:VCALENDAR
VERSION:2.0
PRODID:-//TrueLunar - ECPv6.15.20//NONSGML v1.0//EN
CALSCALE:GREGORIAN
METHOD:PUBLISH
X-ORIGINAL-URL:https://truelunar.com
X-WR-CALDESC:Events for TrueLunar
REFRESH-INTERVAL;VALUE=DURATION:PT1H
X-Robots-Tag:noindex
X-PUBLISHED-TTL:PT1H
BEGIN:VTIMEZONE
TZID:America/Phoenix
BEGIN:STANDARD
TZOFFSETFROM:-0700
TZOFFSETTO:-0700
TZNAME:MST
DTSTART:20250101T000000
END:STANDARD
END:VTIMEZONE
BEGIN:VEVENT
DTSTART;TZID=America/Phoenix:20260217T173000
DTEND;TZID=America/Phoenix:20260217T193000
DTSTAMP:20260423T044322
CREATED:20260120T225729Z
LAST-MODIFIED:20260422T230424Z
UID:36687-1771349400-1771356600@truelunar.com
SUMMARY:Look for New Moon (12th Mo. / Adar)
DESCRIPTION:
URL:https://truelunar.com/event/look-for-new-moon-12th-mo-adar-20/
LOCATION:THE HEAVENS
CATEGORIES:Feasts & Sabbath
END:VEVENT
BEGIN:VEVENT
DTSTART;TZID=America/Phoenix:20260217T173000
DTEND;TZID=America/Phoenix:20260217T193000
DTSTAMP:20260423T044322
CREATED:20260120T225729Z
LAST-MODIFIED:20260422T230424Z
UID:36688-1771349400-1771356600@truelunar.com
SUMMARY:Look for New Moon (12th Mo. / Adar)
DESCRIPTION:
URL:https://truelunar.com/event/look-for-new-moon-12th-mo-adar-21/
LOCATION:THE HEAVENS
CATEGORIES:Feasts & Sabbath
END:VEVENT
END:VCALENDAR