BEGIN:VCALENDAR
VERSION:2.0
PRODID:-//TrueLunar - ECPv6.15.20//NONSGML v1.0//EN
CALSCALE:GREGORIAN
METHOD:PUBLISH
X-WR-CALNAME:TrueLunar
X-ORIGINAL-URL:https://truelunar.com
X-WR-CALDESC:Events for TrueLunar
REFRESH-INTERVAL;VALUE=DURATION:PT1H
X-Robots-Tag:noindex
X-PUBLISHED-TTL:PT1H
BEGIN:VTIMEZONE
TZID:America/Phoenix
BEGIN:STANDARD
TZOFFSETFROM:-0700
TZOFFSETTO:-0700
TZNAME:MST
DTSTART:20250101T000000
END:STANDARD
END:VTIMEZONE
BEGIN:VEVENT
DTSTART;TZID=America/Phoenix:20260218T173000
DTEND;TZID=America/Phoenix:20260218T193000
DTSTAMP:20260423T031930
CREATED:20260120T225729Z
LAST-MODIFIED:20260218T233925Z
UID:36689-1771435800-1771443000@truelunar.com
SUMMARY:Look for New Moon (12th Mo. / Adar)
DESCRIPTION:
URL:https://truelunar.com/event/look-for-new-moon-12th-mo-adar-22/
LOCATION:THE HEAVENS
CATEGORIES:Feasts & Sabbath
END:VEVENT
BEGIN:VEVENT
DTSTART;TZID=America/Phoenix:20260218T180000
DTEND;TZID=America/Phoenix:20260219T180000
DTSTAMP:20260423T031930
CREATED:20260220T001327Z
LAST-MODIFIED:20260422T230424Z
UID:37731-1771437600-1771524000@truelunar.com
SUMMARY:New Moon (12th Mo. / Adar)
DESCRIPTION:
URL:https://truelunar.com/event/new-moon-12th-mo-adar-7/
LOCATION:THE HEAVENS
CATEGORIES:Feasts & Sabbath
END:VEVENT
END:VCALENDAR