BEGIN:VCALENDAR
VERSION:2.0
PRODID:-//TrueLunar - ECPv6.15.20//NONSGML v1.0//EN
CALSCALE:GREGORIAN
METHOD:PUBLISH
X-ORIGINAL-URL:https://truelunar.com
X-WR-CALDESC:Events for TrueLunar
REFRESH-INTERVAL;VALUE=DURATION:PT1H
X-Robots-Tag:noindex
X-PUBLISHED-TTL:PT1H
BEGIN:VTIMEZONE
TZID:America/Phoenix
BEGIN:STANDARD
TZOFFSETFROM:-0700
TZOFFSETTO:-0700
TZNAME:MST
DTSTART:20210101T000000
END:STANDARD
END:VTIMEZONE
BEGIN:VEVENT
DTSTART;TZID=America/Phoenix:20220903T190000
DTEND;TZID=America/Phoenix:20220904T190000
DTSTAMP:20260424T083102
CREATED:20221026T225834Z
LAST-MODIFIED:20250907T220356Z
UID:11180-1662231600-1662318000@truelunar.com
SUMMARY:Sabbath (6th Mo.)
DESCRIPTION:
URL:https://truelunar.com/event/sabbath-6th-mo-152/
LOCATION:Home or Set Apart Gathering
CATEGORIES:Feasts & Sabbath
END:VEVENT
BEGIN:VEVENT
DTSTART;TZID=America/Phoenix:20220910T190000
DTEND;TZID=America/Phoenix:20220911T190000
DTSTAMP:20260424T083102
CREATED:20221026T225849Z
LAST-MODIFIED:20250907T220405Z
UID:11181-1662836400-1662922800@truelunar.com
SUMMARY:Sabbath (6th Mo.)
DESCRIPTION:
URL:https://truelunar.com/event/sabbath-6th-mo-153/
LOCATION:Home or Set Apart Gathering
CATEGORIES:Feasts & Sabbath
END:VEVENT
BEGIN:VEVENT
DTSTART;TZID=America/Phoenix:20220917T190000
DTEND;TZID=America/Phoenix:20220918T190000
DTSTAMP:20260424T083102
CREATED:20221015T221506Z
LAST-MODIFIED:20250907T220406Z
UID:10361-1663441200-1663527600@truelunar.com
SUMMARY:Sabbath (6th Mo.)
DESCRIPTION:
URL:https://truelunar.com/event/sabbath-6th-mo-104/
LOCATION:Home or Set Apart Gathering
CATEGORIES:Feasts & Sabbath
END:VEVENT
BEGIN:VEVENT
DTSTART;TZID=America/Phoenix:20220924T190000
DTEND;TZID=America/Phoenix:20220925T190000
DTSTAMP:20260424T083102
CREATED:20221026T225850Z
LAST-MODIFIED:20250907T220406Z
UID:11183-1664046000-1664132400@truelunar.com
SUMMARY:Sabbath (6th Mo.)
DESCRIPTION:
URL:https://truelunar.com/event/sabbath-6th-mo-155/
LOCATION:Home or Set Apart Gathering
CATEGORIES:Feasts & Sabbath
END:VEVENT
BEGIN:VEVENT
DTSTART;TZID=America/Phoenix:20220926T190000
DTEND;TZID=America/Phoenix:20220926T203000
DTSTAMP:20260424T083102
CREATED:20221026T225850Z
LAST-MODIFIED:20250907T220406Z
UID:11185-1664218800-1664224200@truelunar.com
SUMMARY:Look for New Moon (7th Mo.)
DESCRIPTION:
URL:https://truelunar.com/event/look-for-new-moon-7th-mo-66/
LOCATION:THE HEAVENS
CATEGORIES:Feasts & Sabbath
END:VEVENT
BEGIN:VEVENT
DTSTART;TZID=America/Phoenix:20220927T120000
DTEND;TZID=America/Phoenix:20220928T120000
DTSTAMP:20260424T083102
CREATED:20221026T225854Z
LAST-MODIFIED:20250907T220528Z
UID:11186-1664280000-1664366400@truelunar.com
SUMMARY:New Moon (7th Mo. / Yom Teruah / Eythanim)
DESCRIPTION:
URL:https://truelunar.com/event/new-moon-7th-mo-yom-teruah-eythanim-29/
CATEGORIES:Feasts & Sabbath
END:VEVENT
BEGIN:VEVENT
DTSTART;TZID=America/Phoenix:20220927T190000
DTEND;TZID=America/Phoenix:20220927T203000
DTSTAMP:20260424T083102
CREATED:20220829T223148Z
LAST-MODIFIED:20220927T214001Z
UID:8735-1664305200-1664310600@truelunar.com
SUMMARY:Look for New Moon (7th Mo.)
DESCRIPTION:
URL:https://truelunar.com/event/look-for-new-moon-7th-mo-10/
LOCATION:THE HEAVENS
CATEGORIES:Feasts & Sabbath
END:VEVENT
END:VCALENDAR