BEGIN:VCALENDAR
VERSION:2.0
PRODID:-//TrueLunar - ECPv6.15.20//NONSGML v1.0//EN
CALSCALE:GREGORIAN
METHOD:PUBLISH
X-ORIGINAL-URL:https://truelunar.com
X-WR-CALDESC:Events for TrueLunar
REFRESH-INTERVAL;VALUE=DURATION:PT1H
X-Robots-Tag:noindex
X-PUBLISHED-TTL:PT1H
BEGIN:VTIMEZONE
TZID:America/Phoenix
BEGIN:STANDARD
TZOFFSETFROM:-0700
TZOFFSETTO:-0700
TZNAME:MST
DTSTART:20210101T000000
END:STANDARD
END:VTIMEZONE
BEGIN:VEVENT
DTSTART;TZID=America/Phoenix:20221201T173000
DTEND;TZID=America/Phoenix:20221202T173000
DTSTAMP:20260424T033536
CREATED:20221126T222049Z
LAST-MODIFIED:20260423T230033Z
UID:11928-1669915800-1670002200@truelunar.com
SUMMARY:SABBATH (9th Mo./Kislev)
DESCRIPTION:
URL:https://truelunar.com/event/sabbath-9th-mo-kislev-12/
LOCATION:Home or Set Apart Gathering
CATEGORIES:Feasts & Sabbath
END:VEVENT
BEGIN:VEVENT
DTSTART;TZID=America/Phoenix:20221208T173000
DTEND;TZID=America/Phoenix:20221209T173000
DTSTAMP:20260424T033536
CREATED:20221126T222049Z
LAST-MODIFIED:20260423T230034Z
UID:11929-1670520600-1670607000@truelunar.com
SUMMARY:SABBATH (9th Mo./Kislev)
DESCRIPTION:
URL:https://truelunar.com/event/sabbath-9th-mo-kislev-13/
LOCATION:Home or Set Apart Gathering
CATEGORIES:Feasts & Sabbath
END:VEVENT
BEGIN:VEVENT
DTSTART;TZID=America/Phoenix:20221215T173000
DTEND;TZID=America/Phoenix:20221216T173000
DTSTAMP:20260424T033536
CREATED:20221126T222049Z
LAST-MODIFIED:20260423T230034Z
UID:11930-1671125400-1671211800@truelunar.com
SUMMARY:SABBATH (9th Mo./Kislev)
DESCRIPTION:
URL:https://truelunar.com/event/sabbath-9th-mo-kislev-14/
LOCATION:Home or Set Apart Gathering
CATEGORIES:Feasts & Sabbath
END:VEVENT
BEGIN:VEVENT
DTSTART;TZID=America/Phoenix:20221222T173000
DTEND;TZID=America/Phoenix:20221223T173000
DTSTAMP:20260424T033536
CREATED:20221126T222248Z
LAST-MODIFIED:20260423T230037Z
UID:11931-1671730200-1671816600@truelunar.com
SUMMARY:SABBATH (9th Mo./Kislev)
DESCRIPTION:
URL:https://truelunar.com/event/sabbath-9th-mo-kislev-15/
LOCATION:Home or Set Apart Gathering
CATEGORIES:Feasts & Sabbath
END:VEVENT
BEGIN:VEVENT
DTSTART;TZID=America/Phoenix:20221224T173000
DTEND;TZID=America/Phoenix:20221225T173000
DTSTAMP:20260424T033536
CREATED:20221225T230906Z
LAST-MODIFIED:20260423T230037Z
UID:12203-1671903000-1671989400@truelunar.com
SUMMARY:New Moon (10th Mo./Tebeth)
DESCRIPTION:
URL:https://truelunar.com/event/new-moon-10th-mo-tebeth-3/
LOCATION:THE HEAVENS
CATEGORIES:Feasts & Sabbath
END:VEVENT
BEGIN:VEVENT
DTSTART;TZID=America/Phoenix:20221224T180000
DTEND;TZID=America/Phoenix:20221224T203000
DTSTAMP:20260424T033536
CREATED:20221126T222249Z
LAST-MODIFIED:20260423T230037Z
UID:11933-1671904800-1671913800@truelunar.com
SUMMARY:Look for New Moon (10th Mo. / Tebeth)
DESCRIPTION:
URL:https://truelunar.com/event/look-for-new-moon-10th-mo-tebeth-7/
LOCATION:THE HEAVENS
CATEGORIES:Feasts & Sabbath
END:VEVENT
BEGIN:VEVENT
DTSTART;TZID=America/Phoenix:20221225T180000
DTEND;TZID=America/Phoenix:20221225T203000
DTSTAMP:20260424T033536
CREATED:20221126T222249Z
LAST-MODIFIED:20221224T230837Z
UID:11934-1671991200-1672000200@truelunar.com
SUMMARY:Look for New Moon (10th Mo. / Tebeth)
DESCRIPTION:
URL:https://truelunar.com/event/look-for-new-moon-10th-mo-tebeth-8/
LOCATION:THE HEAVENS
CATEGORIES:Feasts & Sabbath
END:VEVENT
BEGIN:VEVENT
DTSTART;TZID=America/Phoenix:20221230T173000
DTEND;TZID=America/Phoenix:20221231T173000
DTSTAMP:20260424T033536
CREATED:20221225T230906Z
LAST-MODIFIED:20260423T230037Z
UID:12204-1672421400-1672507800@truelunar.com
SUMMARY:SABBATH (10th Mo./Tebeth)
DESCRIPTION:
URL:https://truelunar.com/event/sabbath-10th-mo-tebeth-17/
LOCATION:Home or Set Apart Gathering
CATEGORIES:Feasts & Sabbath
END:VEVENT
END:VCALENDAR