BEGIN:VCALENDAR
VERSION:2.0
PRODID:-//TrueLunar - ECPv6.15.20//NONSGML v1.0//EN
CALSCALE:GREGORIAN
METHOD:PUBLISH
X-ORIGINAL-URL:https://truelunar.com
X-WR-CALDESC:Events for TrueLunar
REFRESH-INTERVAL;VALUE=DURATION:PT1H
X-Robots-Tag:noindex
X-PUBLISHED-TTL:PT1H
BEGIN:VTIMEZONE
TZID:America/Phoenix
BEGIN:STANDARD
TZOFFSETFROM:-0700
TZOFFSETTO:-0700
TZNAME:MST
DTSTART:20220101T000000
END:STANDARD
END:VTIMEZONE
BEGIN:VEVENT
DTSTART;TZID=America/Phoenix:20230106T173000
DTEND;TZID=America/Phoenix:20230107T173000
DTSTAMP:20260424T020731
CREATED:20221225T231017Z
LAST-MODIFIED:20260423T230050Z
UID:12206-1673026200-1673112600@truelunar.com
SUMMARY:SABBATH (10th Mo./Tebeth)
DESCRIPTION:
URL:https://truelunar.com/event/sabbath-10th-mo-tebeth-19/
LOCATION:Home or Set Apart Gathering
CATEGORIES:Feasts & Sabbath
END:VEVENT
BEGIN:VEVENT
DTSTART;TZID=America/Phoenix:20230113T173000
DTEND;TZID=America/Phoenix:20230114T173000
DTSTAMP:20260424T020731
CREATED:20221225T231017Z
LAST-MODIFIED:20260423T230050Z
UID:12207-1673631000-1673717400@truelunar.com
SUMMARY:SABBATH (10th Mo./Tebeth)
DESCRIPTION:
URL:https://truelunar.com/event/sabbath-10th-mo-tebeth-20/
LOCATION:Home or Set Apart Gathering
CATEGORIES:Feasts & Sabbath
END:VEVENT
BEGIN:VEVENT
DTSTART;TZID=America/Phoenix:20230120T173000
DTEND;TZID=America/Phoenix:20230121T173000
DTSTAMP:20260424T020731
CREATED:20221225T231017Z
LAST-MODIFIED:20260423T230050Z
UID:12208-1674235800-1674322200@truelunar.com
SUMMARY:SABBATH (10th Mo./Tebeth)
DESCRIPTION:
URL:https://truelunar.com/event/sabbath-10th-mo-tebeth-21/
LOCATION:Home or Set Apart Gathering
CATEGORIES:Feasts & Sabbath
END:VEVENT
BEGIN:VEVENT
DTSTART;TZID=America/Phoenix:20230122T173000
DTEND;TZID=America/Phoenix:20230122T193000
DTSTAMP:20260424T020731
CREATED:20221225T231132Z
LAST-MODIFIED:20260423T230104Z
UID:12210-1674408600-1674415800@truelunar.com
SUMMARY:Look for New Moon (11th Mo. / Sebat)
DESCRIPTION:
URL:https://truelunar.com/event/look-for-new-moon-11th-mo-sebat-12/
LOCATION:THE HEAVENS
CATEGORIES:Feasts & Sabbath
END:VEVENT
BEGIN:VEVENT
DTSTART;TZID=America/Phoenix:20230122T180000
DTEND;TZID=America/Phoenix:20230123T180000
DTSTAMP:20260424T020731
CREATED:20230123T232411Z
LAST-MODIFIED:20260423T230050Z
UID:12426-1674410400-1674496800@truelunar.com
SUMMARY:New Moon (11th Mo. / Sebat)
DESCRIPTION:
URL:https://truelunar.com/event/new-moon-11th-mo-sebat-4/
LOCATION:THE HEAVENS
CATEGORIES:Feasts & Sabbath
END:VEVENT
BEGIN:VEVENT
DTSTART;TZID=America/Phoenix:20230123T173000
DTEND;TZID=America/Phoenix:20230123T193000
DTSTAMP:20260424T020731
CREATED:20221225T231132Z
LAST-MODIFIED:20230122T221511Z
UID:12211-1674495000-1674502200@truelunar.com
SUMMARY:Look for New Moon (11th Mo. / Sebat)
DESCRIPTION:
URL:https://truelunar.com/event/look-for-new-moon-11th-mo-sebat-13/
LOCATION:THE HEAVENS
CATEGORIES:Feasts & Sabbath
END:VEVENT
BEGIN:VEVENT
DTSTART;TZID=America/Phoenix:20230128T180000
DTEND;TZID=America/Phoenix:20230129T180000
DTSTAMP:20260424T020731
CREATED:20230123T232411Z
LAST-MODIFIED:20260423T230105Z
UID:12427-1674928800-1675015200@truelunar.com
SUMMARY:Sabbath (11th Mo. / Sebat)
DESCRIPTION:
URL:https://truelunar.com/event/sabbath-11th-mo-sebat-17/
LOCATION:Home or Set Apart Gathering
CATEGORIES:Feasts & Sabbath
END:VEVENT
BEGIN:VEVENT
DTSTART;TZID=America/Phoenix:20230128T180000
DTEND;TZID=America/Phoenix:20230129T180000
DTSTAMP:20260424T020731
CREATED:20230123T232411Z
LAST-MODIFIED:20260423T230104Z
UID:12428-1674928800-1675015200@truelunar.com
SUMMARY:Sabbath (11th Mo. / Sebat)
DESCRIPTION:
URL:https://truelunar.com/event/sabbath-11th-mo-sebat-18/
LOCATION:Home or Set Apart Gathering
CATEGORIES:Feasts & Sabbath
END:VEVENT
END:VCALENDAR