BEGIN:VCALENDAR
VERSION:2.0
PRODID:-//TrueLunar - ECPv6.15.20//NONSGML v1.0//EN
CALSCALE:GREGORIAN
METHOD:PUBLISH
X-ORIGINAL-URL:https://truelunar.com
X-WR-CALDESC:Events for TrueLunar
REFRESH-INTERVAL;VALUE=DURATION:PT1H
X-Robots-Tag:noindex
X-PUBLISHED-TTL:PT1H
BEGIN:VTIMEZONE
TZID:America/Phoenix
BEGIN:STANDARD
TZOFFSETFROM:-0700
TZOFFSETTO:-0700
TZNAME:MST
DTSTART:20220101T000000
END:STANDARD
END:VTIMEZONE
BEGIN:VEVENT
DTSTART;TZID=America/Phoenix:20230204T180000
DTEND;TZID=America/Phoenix:20230205T180000
DTSTAMP:20260423T231840
CREATED:20230123T232412Z
LAST-MODIFIED:20260423T230105Z
UID:12429-1675533600-1675620000@truelunar.com
SUMMARY:Sabbath (11th Mo. / Sebat)
DESCRIPTION:
URL:https://truelunar.com/event/sabbath-11th-mo-sebat-19/
LOCATION:Home or Set Apart Gathering
CATEGORIES:Feasts & Sabbath
END:VEVENT
BEGIN:VEVENT
DTSTART;TZID=America/Phoenix:20230211T180000
DTEND;TZID=America/Phoenix:20230212T180000
DTSTAMP:20260423T231840
CREATED:20230123T232515Z
LAST-MODIFIED:20260423T230110Z
UID:12430-1676138400-1676224800@truelunar.com
SUMMARY:Sabbath (11th Mo. / Sebat)
DESCRIPTION:
URL:https://truelunar.com/event/sabbath-11th-mo-sebat-20/
LOCATION:Home or Set Apart Gathering
CATEGORIES:Feasts & Sabbath
END:VEVENT
BEGIN:VEVENT
DTSTART;TZID=America/Phoenix:20230218T180000
DTEND;TZID=America/Phoenix:20230219T180000
DTSTAMP:20260423T231840
CREATED:20230123T232516Z
LAST-MODIFIED:20260423T230110Z
UID:12431-1676743200-1676829600@truelunar.com
SUMMARY:Sabbath (11th Mo. / Sebat)
DESCRIPTION:
URL:https://truelunar.com/event/sabbath-11th-mo-sebat-21/
LOCATION:Home or Set Apart Gathering
CATEGORIES:Feasts & Sabbath
END:VEVENT
BEGIN:VEVENT
DTSTART;TZID=America/Phoenix:20230220T173000
DTEND;TZID=America/Phoenix:20230220T193000
DTSTAMP:20260423T231840
CREATED:20230123T232516Z
LAST-MODIFIED:20260423T230110Z
UID:12432-1676914200-1676921400@truelunar.com
SUMMARY:Look for New Moon (12th Mo. / Adar)
DESCRIPTION:
URL:https://truelunar.com/event/look-for-new-moon-12th-mo-adar-11/
LOCATION:THE HEAVENS
CATEGORIES:Feasts & Sabbath
END:VEVENT
BEGIN:VEVENT
DTSTART;TZID=America/Phoenix:20230220T173000
DTEND;TZID=America/Phoenix:20230220T193000
DTSTAMP:20260423T231840
CREATED:20230123T232516Z
LAST-MODIFIED:20260423T230110Z
UID:12433-1676914200-1676921400@truelunar.com
SUMMARY:Look for New Moon (12th Mo. / Adar)
DESCRIPTION:
URL:https://truelunar.com/event/look-for-new-moon-12th-mo-adar-12/
LOCATION:THE HEAVENS
CATEGORIES:Feasts & Sabbath
END:VEVENT
BEGIN:VEVENT
DTSTART;TZID=America/Phoenix:20230221T173000
DTEND;TZID=America/Phoenix:20230221T193000
DTSTAMP:20260423T231840
CREATED:20230123T232516Z
LAST-MODIFIED:20230221T213158Z
UID:12434-1677000600-1677007800@truelunar.com
SUMMARY:Look for New Moon (12th Mo. / Adar)
DESCRIPTION:
URL:https://truelunar.com/event/look-for-new-moon-12th-mo-adar-13/
LOCATION:THE HEAVENS
CATEGORIES:Feasts & Sabbath
END:VEVENT
BEGIN:VEVENT
DTSTART;TZID=America/Phoenix:20230221T180000
DTEND;TZID=America/Phoenix:20230222T180000
DTSTAMP:20260423T231840
CREATED:20230228T221127Z
LAST-MODIFIED:20260423T230110Z
UID:12769-1677002400-1677088800@truelunar.com
SUMMARY:New Moon - 12 mo. (Adar)
DESCRIPTION:
URL:https://truelunar.com/event/new-moon-12-mo-adar/
CATEGORIES:Feasts & Sabbath
END:VEVENT
BEGIN:VEVENT
DTSTART;TZID=America/Phoenix:20230227T180000
DTEND;TZID=America/Phoenix:20230228T180000
DTSTAMP:20260423T231840
CREATED:20230228T221156Z
LAST-MODIFIED:20260423T230118Z
UID:12770-1677520800-1677607200@truelunar.com
SUMMARY:Sabbath - 12th mo. (Adar)
DESCRIPTION:
URL:https://truelunar.com/event/sabbath-12th-mo-adar-17/
CATEGORIES:Feasts & Sabbath
END:VEVENT
BEGIN:VEVENT
DTSTART;TZID=America/Phoenix:20230227T180000
DTEND;TZID=America/Phoenix:20230228T180000
DTSTAMP:20260423T231840
CREATED:20230228T221156Z
LAST-MODIFIED:20260423T230118Z
UID:12771-1677520800-1677607200@truelunar.com
SUMMARY:Sabbath - 12th mo. (Adar)
DESCRIPTION:
URL:https://truelunar.com/event/sabbath-12th-mo-adar-18/
CATEGORIES:Feasts & Sabbath
END:VEVENT
END:VCALENDAR