BEGIN:VCALENDAR
VERSION:2.0
PRODID:-//TrueLunar - ECPv6.15.20//NONSGML v1.0//EN
CALSCALE:GREGORIAN
METHOD:PUBLISH
X-ORIGINAL-URL:https://truelunar.com
X-WR-CALDESC:Events for TrueLunar
REFRESH-INTERVAL;VALUE=DURATION:PT1H
X-Robots-Tag:noindex
X-PUBLISHED-TTL:PT1H
BEGIN:VTIMEZONE
TZID:America/Phoenix
BEGIN:STANDARD
TZOFFSETFROM:-0700
TZOFFSETTO:-0700
TZNAME:MST
DTSTART:20220101T000000
END:STANDARD
END:VTIMEZONE
BEGIN:VEVENT
DTSTART;TZID=America/Phoenix:20230602T193000
DTEND;TZID=America/Phoenix:20230603T193000
DTSTAMP:20260423T173548
CREATED:20230521T233811Z
LAST-MODIFIED:20260423T230150Z
UID:13611-1685734200-1685820600@truelunar.com
SUMMARY:Sabbath (3rd Mo. / Sivan)
DESCRIPTION:
URL:https://truelunar.com/event/sabbath-3rd-mo-sivan-159/
LOCATION:Home or Set Apart Gathering
CATEGORIES:Feasts & Sabbath
END:VEVENT
BEGIN:VEVENT
DTSTART;TZID=America/Phoenix:20230609T193000
DTEND;TZID=America/Phoenix:20230610T193000
DTSTAMP:20260423T173548
CREATED:20230521T233811Z
LAST-MODIFIED:20260423T230150Z
UID:13612-1686339000-1686425400@truelunar.com
SUMMARY:Sabbath (3rd Mo. / Sivan)
DESCRIPTION:
URL:https://truelunar.com/event/sabbath-3rd-mo-sivan-160/
LOCATION:Home or Set Apart Gathering
CATEGORIES:Feasts & Sabbath
END:VEVENT
BEGIN:VEVENT
DTSTART;TZID=America/Phoenix:20230616T193000
DTEND;TZID=America/Phoenix:20230617T193000
DTSTAMP:20260423T173548
CREATED:20230521T233812Z
LAST-MODIFIED:20260423T230151Z
UID:13613-1686943800-1687030200@truelunar.com
SUMMARY:Sabbath (3rd Mo. / Sivan)
DESCRIPTION:
URL:https://truelunar.com/event/sabbath-3rd-mo-sivan-161/
LOCATION:Home or Set Apart Gathering
CATEGORIES:Feasts & Sabbath
END:VEVENT
BEGIN:VEVENT
DTSTART;TZID=America/Phoenix:20230618T183000
DTEND;TZID=America/Phoenix:20230618T203000
DTSTAMP:20260423T173548
CREATED:20230521T233829Z
LAST-MODIFIED:20260423T230209Z
UID:13614-1687113000-1687120200@truelunar.com
SUMMARY:Look for New Moon (4th Mo.)
DESCRIPTION:
URL:https://truelunar.com/event/look-for-new-moon-4th-mo-68/
LOCATION:THE HEAVENS
CATEGORIES:Feasts & Sabbath
END:VEVENT
BEGIN:VEVENT
DTSTART;TZID=America/Phoenix:20230618T183000
DTEND;TZID=America/Phoenix:20230618T203000
DTSTAMP:20260423T173548
CREATED:20230521T233829Z
LAST-MODIFIED:20260423T230209Z
UID:13615-1687113000-1687120200@truelunar.com
SUMMARY:Look for New Moon (4th Mo.)
DESCRIPTION:
URL:https://truelunar.com/event/look-for-new-moon-4th-mo-69/
LOCATION:THE HEAVENS
CATEGORIES:Feasts & Sabbath
END:VEVENT
BEGIN:VEVENT
DTSTART;TZID=America/Phoenix:20230619T183000
DTEND;TZID=America/Phoenix:20230619T203000
DTSTAMP:20260423T173548
CREATED:20230521T233829Z
LAST-MODIFIED:20230620T002135Z
UID:13616-1687199400-1687206600@truelunar.com
SUMMARY:Look for New Moon (4th Mo.)
DESCRIPTION:
URL:https://truelunar.com/event/look-for-new-moon-4th-mo-70/
LOCATION:THE HEAVENS
CATEGORIES:Feasts & Sabbath
END:VEVENT
BEGIN:VEVENT
DTSTART;TZID=America/Phoenix:20230619T194000
DTEND;TZID=America/Phoenix:20230620T194000
DTSTAMP:20260423T173548
CREATED:20230621T001019Z
LAST-MODIFIED:20260423T230209Z
UID:13959-1687203600-1687290000@truelunar.com
SUMMARY:New Moon (4th Month)
DESCRIPTION:
URL:https://truelunar.com/event/new-moon-4th-month-33/
LOCATION:THE HEAVENS
CATEGORIES:Feasts & Sabbath
END:VEVENT
BEGIN:VEVENT
DTSTART;TZID=America/Phoenix:20230625T194500
DTEND;TZID=America/Phoenix:20230626T194500
DTSTAMP:20260423T173548
CREATED:20230621T001019Z
LAST-MODIFIED:20260423T230209Z
UID:13960-1687722300-1687808700@truelunar.com
SUMMARY:Sabbath (4th Month)
DESCRIPTION:
URL:https://truelunar.com/event/sabbath-4th-month-158/
LOCATION:Home or Set Apart Gathering
CATEGORIES:Feasts & Sabbath
END:VEVENT
BEGIN:VEVENT
DTSTART;TZID=America/Phoenix:20230625T194500
DTEND;TZID=America/Phoenix:20230626T194500
DTSTAMP:20260423T173548
CREATED:20230621T001019Z
LAST-MODIFIED:20260423T230209Z
UID:13961-1687722300-1687808700@truelunar.com
SUMMARY:Sabbath (4th Month)
DESCRIPTION:
URL:https://truelunar.com/event/sabbath-4th-month-159/
LOCATION:Home or Set Apart Gathering
CATEGORIES:Feasts & Sabbath
END:VEVENT
END:VCALENDAR