BEGIN:VCALENDAR
VERSION:2.0
PRODID:-//TrueLunar - ECPv6.15.20//NONSGML v1.0//EN
CALSCALE:GREGORIAN
METHOD:PUBLISH
X-ORIGINAL-URL:https://truelunar.com
X-WR-CALDESC:Events for TrueLunar
REFRESH-INTERVAL;VALUE=DURATION:PT1H
X-Robots-Tag:noindex
X-PUBLISHED-TTL:PT1H
BEGIN:VTIMEZONE
TZID:America/Phoenix
BEGIN:STANDARD
TZOFFSETFROM:-0700
TZOFFSETTO:-0700
TZNAME:MST
DTSTART:20220101T000000
END:STANDARD
END:VTIMEZONE
BEGIN:VEVENT
DTSTART;TZID=America/Phoenix:20230702T194500
DTEND;TZID=America/Phoenix:20230703T194500
DTSTAMP:20260423T160320
CREATED:20230621T001057Z
LAST-MODIFIED:20260423T230227Z
UID:13962-1688327100-1688413500@truelunar.com
SUMMARY:Sabbath (4th Month)
DESCRIPTION:
URL:https://truelunar.com/event/sabbath-4th-month-160/
LOCATION:HOME OR SET APART GATHERING
CATEGORIES:Feasts & Sabbath
END:VEVENT
BEGIN:VEVENT
DTSTART;TZID=America/Phoenix:20230709T194500
DTEND;TZID=America/Phoenix:20230710T194500
DTSTAMP:20260423T160320
CREATED:20230621T001057Z
LAST-MODIFIED:20260423T230227Z
UID:13963-1688931900-1689018300@truelunar.com
SUMMARY:Sabbath (4th Month)
DESCRIPTION:
URL:https://truelunar.com/event/sabbath-4th-month-161/
LOCATION:HOME OR SET APART GATHERING
CATEGORIES:Feasts & Sabbath
END:VEVENT
BEGIN:VEVENT
DTSTART;TZID=America/Phoenix:20230716T194500
DTEND;TZID=America/Phoenix:20230717T194500
DTSTAMP:20260423T160320
CREATED:20230621T001058Z
LAST-MODIFIED:20260423T230227Z
UID:13964-1689536700-1689623100@truelunar.com
SUMMARY:Sabbath (4th Month)
DESCRIPTION:
URL:https://truelunar.com/event/sabbath-4th-month-162/
LOCATION:HOME OR SET APART GATHERING
CATEGORIES:Feasts & Sabbath
END:VEVENT
BEGIN:VEVENT
DTSTART;TZID=America/Phoenix:20230718T193000
DTEND;TZID=America/Phoenix:20230718T203000
DTSTAMP:20260423T160320
CREATED:20230621T001058Z
LAST-MODIFIED:20260423T230228Z
UID:13965-1689708600-1689712200@truelunar.com
SUMMARY:Look for New Moon (5th Mo.)
DESCRIPTION:
URL:https://truelunar.com/event/look-for-new-moon-5th-mo-94/
LOCATION:THE HEAVENS
CATEGORIES:Feasts & Sabbath
END:VEVENT
BEGIN:VEVENT
DTSTART;TZID=America/Phoenix:20230718T193000
DTEND;TZID=America/Phoenix:20230718T203000
DTSTAMP:20260423T160320
CREATED:20230621T001058Z
LAST-MODIFIED:20260423T230230Z
UID:13966-1689708600-1689712200@truelunar.com
SUMMARY:Look for New Moon (5th Mo.)
DESCRIPTION:
URL:https://truelunar.com/event/look-for-new-moon-5th-mo-95/
LOCATION:THE HEAVENS
CATEGORIES:Feasts & Sabbath
END:VEVENT
BEGIN:VEVENT
DTSTART;TZID=America/Phoenix:20230718T194000
DTEND;TZID=America/Phoenix:20230719T194000
DTSTAMP:20260423T160320
CREATED:20230719T221455Z
LAST-MODIFIED:20260423T230228Z
UID:14345-1689709200-1689795600@truelunar.com
SUMMARY:New Moon (5th Month)
DESCRIPTION:
URL:https://truelunar.com/event/new-moon-5th-month-33/
LOCATION:THE HEAVENS
CATEGORIES:Feasts & Sabbath
END:VEVENT
BEGIN:VEVENT
DTSTART;TZID=America/Phoenix:20230719T193000
DTEND;TZID=America/Phoenix:20230719T203000
DTSTAMP:20260423T160320
CREATED:20230621T001308Z
LAST-MODIFIED:20230718T222338Z
UID:13967-1689795000-1689798600@truelunar.com
SUMMARY:Look for New Moon (5th Mo.)
DESCRIPTION:
URL:https://truelunar.com/event/look-for-new-moon-5th-mo-96/
LOCATION:THE HEAVENS
CATEGORIES:Feasts & Sabbath
END:VEVENT
BEGIN:VEVENT
DTSTART;TZID=America/Phoenix:20230724T193000
DTEND;TZID=America/Phoenix:20230725T193000
DTSTAMP:20260423T160320
CREATED:20230719T221515Z
LAST-MODIFIED:20260423T230230Z
UID:14347-1690227000-1690313400@truelunar.com
SUMMARY:SABBATH (5th Mo.)
DESCRIPTION:
URL:https://truelunar.com/event/sabbath-5th-mo-156/
LOCATION:Set Apart Gathering or Home
CATEGORIES:Feasts & Sabbath
END:VEVENT
BEGIN:VEVENT
DTSTART;TZID=America/Phoenix:20230724T193000
DTEND;TZID=America/Phoenix:20230725T193000
DTSTAMP:20260423T160320
CREATED:20230719T221516Z
LAST-MODIFIED:20260423T230230Z
UID:14348-1690227000-1690313400@truelunar.com
SUMMARY:SABBATH (5th Mo.)
DESCRIPTION:
URL:https://truelunar.com/event/sabbath-5th-mo-157/
LOCATION:Set Apart Gathering or Home
CATEGORIES:Feasts & Sabbath
END:VEVENT
BEGIN:VEVENT
DTSTART;TZID=America/Phoenix:20230731T193000
DTEND;TZID=America/Phoenix:20230801T193000
DTSTAMP:20260423T160320
CREATED:20230719T221516Z
LAST-MODIFIED:20260423T230230Z
UID:14349-1690831800-1690918200@truelunar.com
SUMMARY:SABBATH (5th Mo.)
DESCRIPTION:
URL:https://truelunar.com/event/sabbath-5th-mo-158/
LOCATION:Set Apart Gathering or Home
CATEGORIES:Feasts & Sabbath
END:VEVENT
END:VCALENDAR