BEGIN:VCALENDAR
VERSION:2.0
PRODID:-//TrueLunar - ECPv6.15.20//NONSGML v1.0//EN
CALSCALE:GREGORIAN
METHOD:PUBLISH
X-WR-CALNAME:TrueLunar
X-ORIGINAL-URL:https://truelunar.com
X-WR-CALDESC:Events for TrueLunar
REFRESH-INTERVAL;VALUE=DURATION:PT1H
X-Robots-Tag:noindex
X-PUBLISHED-TTL:PT1H
BEGIN:VTIMEZONE
TZID:America/Phoenix
BEGIN:STANDARD
TZOFFSETFROM:-0700
TZOFFSETTO:-0700
TZNAME:MST
DTSTART:20220101T000000
END:STANDARD
END:VTIMEZONE
BEGIN:VEVENT
DTSTART;TZID=America/Phoenix:20230731T193000
DTEND;TZID=America/Phoenix:20230801T193000
DTSTAMP:20260423T142452
CREATED:20230719T221516Z
LAST-MODIFIED:20260422T230847Z
UID:14349-1690831800-1690918200@truelunar.com
SUMMARY:SABBATH (5th Mo.)
DESCRIPTION:
URL:https://truelunar.com/event/sabbath-5th-mo-158/
LOCATION:Set Apart Gathering or Home
CATEGORIES:Feasts & Sabbath
END:VEVENT
BEGIN:VEVENT
DTSTART;TZID=America/Phoenix:20230807T193000
DTEND;TZID=America/Phoenix:20230808T193000
DTSTAMP:20260423T142452
CREATED:20230719T221516Z
LAST-MODIFIED:20260422T230847Z
UID:14350-1691436600-1691523000@truelunar.com
SUMMARY:SABBATH (5th Mo.)
DESCRIPTION:
URL:https://truelunar.com/event/sabbath-5th-mo-159/
LOCATION:Set Apart Gathering or Home
CATEGORIES:Feasts & Sabbath
END:VEVENT
BEGIN:VEVENT
DTSTART;TZID=America/Phoenix:20230814T193000
DTEND;TZID=America/Phoenix:20230815T193000
DTSTAMP:20260423T142452
CREATED:20230719T221543Z
LAST-MODIFIED:20260422T230857Z
UID:14351-1692041400-1692127800@truelunar.com
SUMMARY:SABBATH (5th Mo.)
DESCRIPTION:
URL:https://truelunar.com/event/sabbath-5th-mo-160/
LOCATION:Set Apart Gathering or Home
CATEGORIES:Feasts & Sabbath
END:VEVENT
BEGIN:VEVENT
DTSTART;TZID=America/Phoenix:20230816T193000
DTEND;TZID=America/Phoenix:20230816T203000
DTSTAMP:20260423T142452
CREATED:20230719T221543Z
LAST-MODIFIED:20260422T230857Z
UID:14352-1692214200-1692217800@truelunar.com
SUMMARY:Look for New Moon (6th Mo.)
DESCRIPTION:
URL:https://truelunar.com/event/look-for-new-moon-6th-mo-67/
LOCATION:THE HEAVENS
CATEGORIES:Feasts & Sabbath
END:VEVENT
BEGIN:VEVENT
DTSTART;TZID=America/Phoenix:20230816T193000
DTEND;TZID=America/Phoenix:20230816T203000
DTSTAMP:20260423T142452
CREATED:20230719T221543Z
LAST-MODIFIED:20260422T230857Z
UID:14353-1692214200-1692217800@truelunar.com
SUMMARY:Look for New Moon (6th Mo.)
DESCRIPTION:
URL:https://truelunar.com/event/look-for-new-moon-6th-mo-68/
LOCATION:THE HEAVENS
CATEGORIES:Feasts & Sabbath
END:VEVENT
BEGIN:VEVENT
DTSTART;TZID=America/Phoenix:20230817T193000
DTEND;TZID=America/Phoenix:20230817T203000
DTSTAMP:20260423T142452
CREATED:20230719T221543Z
LAST-MODIFIED:20230818T000026Z
UID:14354-1692300600-1692304200@truelunar.com
SUMMARY:Look for New Moon (6th Mo.)
DESCRIPTION:
URL:https://truelunar.com/event/look-for-new-moon-6th-mo-69/
LOCATION:THE HEAVENS
CATEGORIES:Feasts & Sabbath
END:VEVENT
BEGIN:VEVENT
DTSTART;TZID=America/Phoenix:20230817T193000
DTEND;TZID=America/Phoenix:20230818T193000
DTSTAMP:20260423T142452
CREATED:20230818T234832Z
LAST-MODIFIED:20260422T230857Z
UID:14830-1692300600-1692387000@truelunar.com
SUMMARY:New Moon (6th Month)
DESCRIPTION:
URL:https://truelunar.com/event/new-moon-6th-month-32/
LOCATION:THE HEAVENS
CATEGORIES:Feasts & Sabbath
END:VEVENT
BEGIN:VEVENT
DTSTART;TZID=America/Phoenix:20230823T190000
DTEND;TZID=America/Phoenix:20230824T190000
DTSTAMP:20260423T142452
CREATED:20230818T234833Z
LAST-MODIFIED:20260422T230908Z
UID:14832-1692817200-1692903600@truelunar.com
SUMMARY:Sabbath (6th Mo.)
DESCRIPTION:
URL:https://truelunar.com/event/sabbath-6th-mo-156/
LOCATION:HOME OR SET APART GATHERING
CATEGORIES:Feasts & Sabbath
END:VEVENT
BEGIN:VEVENT
DTSTART;TZID=America/Phoenix:20230823T190000
DTEND;TZID=America/Phoenix:20230824T190000
DTSTAMP:20260423T142452
CREATED:20230818T234900Z
LAST-MODIFIED:20260422T230858Z
UID:14833-1692817200-1692903600@truelunar.com
SUMMARY:Sabbath (6th Mo.)
DESCRIPTION:
URL:https://truelunar.com/event/sabbath-6th-mo-157/
LOCATION:HOME OR SET APART GATHERING
CATEGORIES:Feasts & Sabbath
END:VEVENT
BEGIN:VEVENT
DTSTART;TZID=America/Phoenix:20230830T190000
DTEND;TZID=America/Phoenix:20230831T190000
DTSTAMP:20260423T142452
CREATED:20230818T234901Z
LAST-MODIFIED:20260422T230908Z
UID:14834-1693422000-1693508400@truelunar.com
SUMMARY:Sabbath (6th Mo.)
DESCRIPTION:
URL:https://truelunar.com/event/sabbath-6th-mo-158/
LOCATION:HOME OR SET APART GATHERING
CATEGORIES:Feasts & Sabbath
END:VEVENT
END:VCALENDAR