BEGIN:VCALENDAR
VERSION:2.0
PRODID:-//TrueLunar - ECPv6.15.20//NONSGML v1.0//EN
CALSCALE:GREGORIAN
METHOD:PUBLISH
X-ORIGINAL-URL:https://truelunar.com
X-WR-CALDESC:Events for TrueLunar
REFRESH-INTERVAL;VALUE=DURATION:PT1H
X-Robots-Tag:noindex
X-PUBLISHED-TTL:PT1H
BEGIN:VTIMEZONE
TZID:America/Phoenix
BEGIN:STANDARD
TZOFFSETFROM:-0700
TZOFFSETTO:-0700
TZNAME:MST
DTSTART:20230101T000000
END:STANDARD
END:VTIMEZONE
BEGIN:VEVENT
DTSTART;TZID=America/Phoenix:20240802T193000
DTEND;TZID=America/Phoenix:20240803T193000
DTSTAMP:20260423T205417
CREATED:20241104T000740Z
LAST-MODIFIED:20260423T230451Z
UID:22978-1722627000-1722713400@truelunar.com
SUMMARY:SABBATH (5th Mo.)
DESCRIPTION:
URL:https://truelunar.com/event/sabbath-5th-mo-165/
LOCATION:Set Apart Gathering or Home
CATEGORIES:Feasts & Sabbath
END:VEVENT
BEGIN:VEVENT
DTSTART;TZID=America/Phoenix:20240804T193000
DTEND;TZID=America/Phoenix:20240804T203000
DTSTAMP:20260423T205417
CREATED:20241104T000740Z
LAST-MODIFIED:20260423T230451Z
UID:22979-1722799800-1722803400@truelunar.com
SUMMARY:Look for New Moon (6th Mo.)
DESCRIPTION:
URL:https://truelunar.com/event/look-for-new-moon-6th-mo-70/
LOCATION:THE HEAVENS
CATEGORIES:Feasts & Sabbath
END:VEVENT
BEGIN:VEVENT
DTSTART;TZID=America/Phoenix:20240804T193000
DTEND;TZID=America/Phoenix:20240804T203000
DTSTAMP:20260423T205417
CREATED:20241104T000740Z
LAST-MODIFIED:20260423T230451Z
UID:22980-1722799800-1722803400@truelunar.com
SUMMARY:Look for New Moon (6th Mo.)
DESCRIPTION:
URL:https://truelunar.com/event/look-for-new-moon-6th-mo-71/
LOCATION:THE HEAVENS
CATEGORIES:Feasts & Sabbath
END:VEVENT
BEGIN:VEVENT
DTSTART;TZID=America/Phoenix:20240805T193000
DTEND;TZID=America/Phoenix:20240806T193000
DTSTAMP:20260423T205417
CREATED:20241104T000740Z
LAST-MODIFIED:20260423T230451Z
UID:22981-1722886200-1722972600@truelunar.com
SUMMARY:New Moon (6th Month)
DESCRIPTION:
URL:https://truelunar.com/event/new-moon-6th-month-33/
LOCATION:THE HEAVENS
CATEGORIES:Feasts & Sabbath
END:VEVENT
BEGIN:VEVENT
DTSTART;TZID=America/Phoenix:20240811T190000
DTEND;TZID=America/Phoenix:20240812T190000
DTSTAMP:20260423T205417
CREATED:20241104T000744Z
LAST-MODIFIED:20260423T230508Z
UID:22984-1723402800-1723489200@truelunar.com
SUMMARY:Sabbath (6th Mo.)
DESCRIPTION:
URL:https://truelunar.com/event/sabbath-6th-mo-162/
LOCATION:Home or Set Apart Gathering
CATEGORIES:Feasts & Sabbath
END:VEVENT
BEGIN:VEVENT
DTSTART;TZID=America/Phoenix:20240811T190000
DTEND;TZID=America/Phoenix:20240812T190000
DTSTAMP:20260423T205417
CREATED:20241104T000744Z
LAST-MODIFIED:20260423T230508Z
UID:22983-1723402800-1723489200@truelunar.com
SUMMARY:Sabbath (6th Mo.)
DESCRIPTION:
URL:https://truelunar.com/event/sabbath-6th-mo-161/
LOCATION:Home or Set Apart Gathering
CATEGORIES:Feasts & Sabbath
END:VEVENT
BEGIN:VEVENT
DTSTART;TZID=America/Phoenix:20240818T190000
DTEND;TZID=America/Phoenix:20240819T190000
DTSTAMP:20260423T205417
CREATED:20241104T000745Z
LAST-MODIFIED:20260423T230509Z
UID:22985-1724007600-1724094000@truelunar.com
SUMMARY:Sabbath (6th Mo.)
DESCRIPTION:
URL:https://truelunar.com/event/sabbath-6th-mo-163/
LOCATION:Home or Set Apart Gathering
CATEGORIES:Feasts & Sabbath
END:VEVENT
BEGIN:VEVENT
DTSTART;TZID=America/Phoenix:20240825T190000
DTEND;TZID=America/Phoenix:20240826T190000
DTSTAMP:20260423T205417
CREATED:20241104T000745Z
LAST-MODIFIED:20260423T230509Z
UID:22986-1724612400-1724698800@truelunar.com
SUMMARY:Sabbath (6th Mo.)
DESCRIPTION:
URL:https://truelunar.com/event/sabbath-6th-mo-164/
LOCATION:Home or Set Apart Gathering
CATEGORIES:Feasts & Sabbath
END:VEVENT
END:VCALENDAR