BEGIN:VCALENDAR
VERSION:2.0
PRODID:-//TrueLunar - ECPv6.15.20//NONSGML v1.0//EN
CALSCALE:GREGORIAN
METHOD:PUBLISH
X-WR-CALNAME:TrueLunar
X-ORIGINAL-URL:https://truelunar.com
X-WR-CALDESC:Events for TrueLunar
REFRESH-INTERVAL;VALUE=DURATION:PT1H
X-Robots-Tag:noindex
X-PUBLISHED-TTL:PT1H
BEGIN:VTIMEZONE
TZID:America/Phoenix
BEGIN:STANDARD
TZOFFSETFROM:-0700
TZOFFSETTO:-0700
TZNAME:MST
DTSTART:20230101T000000
END:STANDARD
END:VTIMEZONE
BEGIN:VEVENT
DTSTART;TZID=America/Phoenix:20240901T190000
DTEND;TZID=America/Phoenix:20240902T190000
DTSTAMP:20260421T201748
CREATED:20241104T000746Z
LAST-MODIFIED:20260421T230348Z
UID:22987-1725217200-1725303600@truelunar.com
SUMMARY:Sabbath (6th Mo.)
DESCRIPTION:
URL:https://truelunar.com/event/sabbath-6th-mo-165/
LOCATION:HOME OR SET APART GATHERING
CATEGORIES:Feasts & Sabbath
END:VEVENT
BEGIN:VEVENT
DTSTART;TZID=America/Phoenix:20240903T190000
DTEND;TZID=America/Phoenix:20240903T203000
DTSTAMP:20260421T201748
CREATED:20241104T000751Z
LAST-MODIFIED:20260421T230400Z
UID:22988-1725390000-1725395400@truelunar.com
SUMMARY:Look for New Moon (7th Mo. / Eythanim)
DESCRIPTION:
URL:https://truelunar.com/event/look-for-new-moon-7th-mo-eythanim/
LOCATION:THE HEAVENS
CATEGORIES:Feasts & Sabbath
END:VEVENT
BEGIN:VEVENT
DTSTART;TZID=America/Phoenix:20240903T190000
DTEND;TZID=America/Phoenix:20240903T203000
DTSTAMP:20260421T201748
CREATED:20241104T000751Z
LAST-MODIFIED:20260421T230400Z
UID:22989-1725390000-1725395400@truelunar.com
SUMMARY:Look for New Moon (7th Mo. / Eythanim)
DESCRIPTION:
URL:https://truelunar.com/event/look-for-new-moon-7th-mo-eythanim-2/
LOCATION:THE HEAVENS
CATEGORIES:Feasts & Sabbath
END:VEVENT
BEGIN:VEVENT
DTSTART;TZID=America/Phoenix:20240904T185000
DTEND;TZID=America/Phoenix:20240905T185000
DTSTAMP:20260421T201748
CREATED:20241104T000751Z
LAST-MODIFIED:20260421T230400Z
UID:22990-1725475800-1725562200@truelunar.com
SUMMARY:New Moon (7th Mo. / Yom Teruah / Eythanim)
DESCRIPTION:
URL:https://truelunar.com/event/new-moon-7th-mo-yom-teruah-eythanim-31/
CATEGORIES:Feasts & Sabbath
END:VEVENT
BEGIN:VEVENT
DTSTART;TZID=America/Phoenix:20240910T183000
DTEND;TZID=America/Phoenix:20240911T183000
DTSTAMP:20260421T201748
CREATED:20241104T000753Z
LAST-MODIFIED:20260421T230400Z
UID:22993-1725993000-1726079400@truelunar.com
SUMMARY:Sabbath (7th Mo./Eythanim)
DESCRIPTION:
URL:https://truelunar.com/event/sabbath-7th-mo-eythanim-163/
LOCATION:Set Apart Gathering or Home
CATEGORIES:Feasts & Sabbath
END:VEVENT
BEGIN:VEVENT
DTSTART;TZID=America/Phoenix:20240910T183000
DTEND;TZID=America/Phoenix:20240911T183000
DTSTAMP:20260421T201748
CREATED:20241104T000753Z
LAST-MODIFIED:20260421T230401Z
UID:22992-1725993000-1726079400@truelunar.com
SUMMARY:Sabbath (7th Mo./Eythanim)
DESCRIPTION:
URL:https://truelunar.com/event/sabbath-7th-mo-eythanim-162/
LOCATION:Set Apart Gathering or Home
CATEGORIES:Feasts & Sabbath
END:VEVENT
BEGIN:VEVENT
DTSTART;TZID=America/Phoenix:20240913T183000
DTEND;TZID=America/Phoenix:20240914T183000
DTSTAMP:20260421T201748
CREATED:20241104T000810Z
LAST-MODIFIED:20260421T230425Z
UID:22994-1726252200-1726338600@truelunar.com
SUMMARY:Yom Kippur - Holy Day (FAST)
DESCRIPTION:
URL:https://truelunar.com/event/yom-kippur-holy-day-fast-23/
LOCATION:HOME
CATEGORIES:Feasts & Sabbath
END:VEVENT
BEGIN:VEVENT
DTSTART;TZID=America/Phoenix:20240917T183000
DTEND;TZID=America/Phoenix:20240918T183000
DTSTAMP:20260421T201748
CREATED:20241104T000812Z
LAST-MODIFIED:20260421T230425Z
UID:22996-1726597800-1726684200@truelunar.com
SUMMARY:Sabbath (7th Mo./Eythanim)
DESCRIPTION:
URL:https://truelunar.com/event/sabbath-7th-mo-eythanim-164/
LOCATION:Set Apart Gathering or Home
CATEGORIES:Feasts & Sabbath
END:VEVENT
BEGIN:VEVENT
DTSTART;TZID=America/Phoenix:20240918T183000
DTEND;TZID=America/Phoenix:20240919T183000
DTSTAMP:20260421T201748
CREATED:20241104T000812Z
LAST-MODIFIED:20260421T230425Z
UID:22997-1726684200-1726770600@truelunar.com
SUMMARY:Holy Day - NO WORK
DESCRIPTION:
URL:https://truelunar.com/event/holy-day-no-work-92/
CATEGORIES:Feasts & Sabbath
END:VEVENT
BEGIN:VEVENT
DTSTART;TZID=America/Phoenix:20240918T183000
DTEND;TZID=America/Phoenix:20240926T183000
DTSTAMP:20260421T201748
CREATED:20241104T000810Z
LAST-MODIFIED:20260421T230425Z
UID:22995-1726684200-1727375400@truelunar.com
SUMMARY:Sukkoth (Feast of Tabernacles)
DESCRIPTION:
URL:https://truelunar.com/event/sukkoth-feast-of-tabernacles-22/
CATEGORIES:Feasts & Sabbath
END:VEVENT
BEGIN:VEVENT
DTSTART;TZID=America/Phoenix:20240924T183000
DTEND;TZID=America/Phoenix:20240925T183000
DTSTAMP:20260421T201748
CREATED:20241104T000823Z
LAST-MODIFIED:20260421T230425Z
UID:22999-1727202600-1727289000@truelunar.com
SUMMARY:Sabbath (7th Mo./Eythanim)
DESCRIPTION:
URL:https://truelunar.com/event/sabbath-7th-mo-eythanim-165/
LOCATION:Set Apart Gathering or Home
CATEGORIES:Feasts & Sabbath
END:VEVENT
BEGIN:VEVENT
DTSTART;TZID=America/Phoenix:20240925T183000
DTEND;TZID=America/Phoenix:20240926T183000
DTSTAMP:20260421T201748
CREATED:20241104T000813Z
LAST-MODIFIED:20260421T230426Z
UID:22998-1727289000-1727375400@truelunar.com
SUMMARY:Holy Day - NO WORK
DESCRIPTION:
URL:https://truelunar.com/event/holy-day-no-work-93/
CATEGORIES:Feasts & Sabbath
END:VEVENT
END:VCALENDAR