BEGIN:VCALENDAR
VERSION:2.0
PRODID:-//TrueLunar - ECPv6.15.20//NONSGML v1.0//EN
CALSCALE:GREGORIAN
METHOD:PUBLISH
X-WR-CALNAME:TrueLunar
X-ORIGINAL-URL:https://truelunar.com
X-WR-CALDESC:Events for TrueLunar
REFRESH-INTERVAL;VALUE=DURATION:PT1H
X-Robots-Tag:noindex
X-PUBLISHED-TTL:PT1H
BEGIN:VTIMEZONE
TZID:America/Phoenix
BEGIN:STANDARD
TZOFFSETFROM:-0700
TZOFFSETTO:-0700
TZNAME:MST
DTSTART:20230101T000000
END:STANDARD
END:VTIMEZONE
BEGIN:VEVENT
DTSTART;TZID=America/Phoenix:20241031T180000
DTEND;TZID=America/Phoenix:20241101T180000
DTSTAMP:20260423T013958
CREATED:20241104T000907Z
LAST-MODIFIED:20260422T230107Z
UID:23008-1730397600-1730484000@truelunar.com
SUMMARY:SABBATH (8th Mo./Bul)
DESCRIPTION:
URL:https://truelunar.com/event/sabbath-8th-mo-bul-25/
LOCATION:HOME OR SET APART GATHERING
CATEGORIES:Feasts & Sabbath
END:VEVENT
BEGIN:VEVENT
DTSTART;TZID=America/Phoenix:20241102T180000
DTEND;TZID=America/Phoenix:20241102T190000
DTSTAMP:20260423T013958
CREATED:20241104T000934Z
LAST-MODIFIED:20260422T230115Z
UID:23010-1730570400-1730574000@truelunar.com
SUMMARY:Look for New Moon (9th Mo. Kislev)
DESCRIPTION:
URL:https://truelunar.com/event/look-for-new-moon-9th-mo-kislev-13/
LOCATION:THE HEAVENS
CATEGORIES:Feasts & Sabbath
END:VEVENT
BEGIN:VEVENT
DTSTART;TZID=America/Phoenix:20241103T173000
DTEND;TZID=America/Phoenix:20241104T173000
DTSTAMP:20260423T013958
CREATED:20241105T213318Z
LAST-MODIFIED:20260422T230116Z
UID:23116-1730655000-1730741400@truelunar.com
SUMMARY:New Moon (9th Mo./Kislev)
DESCRIPTION:
URL:https://truelunar.com/event/new-moon-9th-mo-kislev-5/
LOCATION:THE HEAVENS
CATEGORIES:Feasts & Sabbath
END:VEVENT
BEGIN:VEVENT
DTSTART;TZID=America/Phoenix:20241103T180000
DTEND;TZID=America/Phoenix:20241103T190000
DTSTAMP:20260423T013958
CREATED:20241104T000934Z
LAST-MODIFIED:20241104T002730Z
UID:23011-1730656800-1730660400@truelunar.com
SUMMARY:Look for New Moon (9th Mo. Kislev)
DESCRIPTION:
URL:https://truelunar.com/event/look-for-new-moon-9th-mo-kislev-14/
LOCATION:THE HEAVENS
CATEGORIES:Feasts & Sabbath
END:VEVENT
BEGIN:VEVENT
DTSTART;TZID=America/Phoenix:20241109T173000
DTEND;TZID=America/Phoenix:20241110T173000
DTSTAMP:20260423T013958
CREATED:20241105T213320Z
LAST-MODIFIED:20260422T230116Z
UID:23118-1731173400-1731259800@truelunar.com
SUMMARY:SABBATH (9th Mo./Kislev)
DESCRIPTION:
URL:https://truelunar.com/event/sabbath-9th-mo-kislev-22/
LOCATION:HOME OR SET APART GATHERING
CATEGORIES:Feasts & Sabbath
END:VEVENT
BEGIN:VEVENT
DTSTART;TZID=America/Phoenix:20241109T173000
DTEND;TZID=America/Phoenix:20241110T173000
DTSTAMP:20260423T013958
CREATED:20241105T213320Z
LAST-MODIFIED:20260422T230116Z
UID:23117-1731173400-1731259800@truelunar.com
SUMMARY:SABBATH (9th Mo./Kislev)
DESCRIPTION:
URL:https://truelunar.com/event/sabbath-9th-mo-kislev-21/
LOCATION:HOME OR SET APART GATHERING
CATEGORIES:Feasts & Sabbath
END:VEVENT
BEGIN:VEVENT
DTSTART;TZID=America/Phoenix:20241116T173000
DTEND;TZID=America/Phoenix:20241117T173000
DTSTAMP:20260423T013958
CREATED:20241105T213332Z
LAST-MODIFIED:20260422T230126Z
UID:23119-1731778200-1731864600@truelunar.com
SUMMARY:SABBATH (9th Mo./Kislev)
DESCRIPTION:
URL:https://truelunar.com/event/sabbath-9th-mo-kislev-23/
LOCATION:HOME OR SET APART GATHERING
CATEGORIES:Feasts & Sabbath
END:VEVENT
BEGIN:VEVENT
DTSTART;TZID=America/Phoenix:20241123T173000
DTEND;TZID=America/Phoenix:20241124T173000
DTSTAMP:20260423T013958
CREATED:20241105T213333Z
LAST-MODIFIED:20260422T230126Z
UID:23120-1732383000-1732469400@truelunar.com
SUMMARY:SABBATH (9th Mo./Kislev)
DESCRIPTION:
URL:https://truelunar.com/event/sabbath-9th-mo-kislev-24/
LOCATION:HOME OR SET APART GATHERING
CATEGORIES:Feasts & Sabbath
END:VEVENT
BEGIN:VEVENT
DTSTART;TZID=America/Phoenix:20241130T173000
DTEND;TZID=America/Phoenix:20241201T173000
DTSTAMP:20260423T013958
CREATED:20241105T213333Z
LAST-MODIFIED:20260422T230126Z
UID:23121-1732987800-1733074200@truelunar.com
SUMMARY:SABBATH (9th Mo./Kislev)
DESCRIPTION:
URL:https://truelunar.com/event/sabbath-9th-mo-kislev-25/
LOCATION:HOME OR SET APART GATHERING
CATEGORIES:Feasts & Sabbath
END:VEVENT
END:VCALENDAR